Workbook

Sheet Vertinimo tvarka ir sąlygos
B1: PASIŪLYMŲ VERTINIMAS
B3: 1. Perkančiosios organizacijos neatmesti pasiūlymai vertinami taikant ekonomiškai naudingiausio pasiūlymo vertinimo kriterijus, kai vertinama kaina ir kokybė.
B4: 2. Ekonomiškai naudingiausias pasiūlymas – tai pasiūlymas, kurio balų suma, apskaičiuota pagal toliau nustatytus pasiūlymų vertinimo kriterijus ir sąlygas, yra didžiausia.
B5: 3. Didžiausia priimtina pasiūlymo kaina yra Eur (su PVM). Šią kainą viršijantys pasiūlymai bus atmesti.
B7: Numatytų vertinimo kriterijų lyginamieji svoriai:
C8: 1) Kaina (K) | D8: 60
C9: 2) Techniniai pranašumai (T) | D9: 40
B11: Vertinimo kriterijai ir jų parametrų lyginamieji svoriai:
B13: Vertinimo kriterijai | G13: Lyginamasis svoris ekonominio naudingumo įvertinime
B14: Kaina (K) | G14: X = | H14: =D8 -> 60
B15: Techniniai pranašumai (T) | G15: Y = | H15: =D9 -> 40
B16: Nr. | C16: Parametrai | D16: Formulės rūšis | E16: Parametro lyginamasis svoris
B17: T1 | C17: Dirbtinio intelekto pagrindu veikianti automatinė standartinių akušerinių plokštumų (I ir II trimestro) atpažinimo, žymėjimo ir tyrimo išsamumo kontrolės funkcija realiame laike. | D17: Statinis: (yra/nėra) | E17: L1 = | F17: 0.2 | G17: Įrašyti parametro vertę: yra / nėra
B18: T2 | C18: Automatizuotas vaisiaus centrinės nervų sistemos standartinių plokštumų išskyrimas iš tūrinio (3D) vaizdo ir automatiniai matavimai. | D18: Statinis: (yra/nėra) | E18: L2 = | F18: 0.2 | G18: Įrašyti parametro vertę: yra / nėra
B19: T3 | C19: Automatinis folikulų atpažinimas, skaičiavimas ir matavimas (skersmenys ir tūris) tūriniame (3D) vaizde. | D19: Statinis: (yra/nėra) | E19: L3 = | F19: 0.2 | G19: Įrašyti parametro vertę: yra / nėra
B20: T4 | C20: Tūrinio (3D/4D) endokavitalinio daviklio viršutinė darbinio dažnių diapazono riba ≥ 14 MHz. | D20: Statinis: (yra/nėra) | E20: L4 = | F20: 0.2 | G20: Įrašyti parametro vertę: yra / nėra
B21: T5 | C21: 1. Sistema automatiškai suranda ir parenka ryškiausią 2D kadrą per iš anksto nustatytą peržiūros laiką po sustabdymo. Peržiūros laiką gali reguliuoti vartotojas. 2. Sistema automatiškai suranda ir parenka kadrą spalvinio doplerio režime su geriausiu spalviniu užpildymu sustabdžius vaizdą. Peržiūros laiką gali reguliuoti vartotojas. Turi veikti spalvinio doplerio ir spalvinio/spektrinio doplerio režimuose. | D21: Statinis: (yra/nėra) | E21: L5 = | F21: 0.1 | G21: Įrašyti parametro vertę: yra / nėra
B22: T6 | C22: Galima savarankiškai rankiniu būdu reguliuoti automatinį realaus laiko vaizdo optimizavimo algoritmą tolimajame lauke, siekiant subalansuoti ryškumą audiniuose. | D22: Statinis: (yra/nėra) | E22: L6 = | F22: 0.1 | G22: Įrašyti parametro vertę: yra / nėra
B24: 4. Pasiūlymo ekonominio naudingumo (kainos ir kokybės santykio) apskaičiavimo tvarka (formulė) yra pateikiama žemiau:
B26: 4.1. Pasiūlymo ekonominis naudingumas (E) apskaičiuojamas sudedant tiekėjo pasiūlymo kainos (K) ir techninių pranašumų (T) balus:
D27: E = K + T
B29: 4.2. Pasiūlymo kainos (K) balai apskaičiuojami mažiausios pasiūlytos kainos (Kmin) ir vertinamo pasiūlymo kainos (Kv) santykį padauginant iš kainos lyginamojo svorio (X):
B33: 4.3. Kadangi siūlomo objekto T1, T2, T3, T4, T5 ir T6 techniniai parametrai neturi skaitinių išraiškų (yra arba nėra), todėl parametrų įvertinimas apskaičiuojamas pagal metodiką:
B34: Jei siūlomas objektas turi nurodytą pranašumą gauna maksimalų balų skaičių pagal lyginamąjį svorį:
B35: T1 = L1 = | D35: =F17 -> 0.2
B36: T2 = L2 = | D36: =F18 -> 0.2
B37: T3 = L3 = | D37: =F19 -> 0.2
B38: T4 = L4 = | D38: =F20 -> 0.2
C39: T5 = L5 = | D39: =F21 -> 0.1
C40: T6 = L6 = | D40: =F22 -> 0.1
B41: Jei siūlomas objektas neturi nurodyto pranašumo gauna 0 balų:
B42: T1 = L1 = | D42: 0
B43: T2 = L2 = | D43: 0
B44: T3 = L3 = | D44: 0
B45: T4 = L4 = | D45: 0
C46: T5 = L5 = | D46: 0
C47: T6 = L6 = | D47: 0
B49: 4.4. Techninių pranašumų (T) balai apskaičiuojami visų techninių kriterijų parametrų įvertinimų sumą padauginant iš techninių pranašumų lyginamojo svorio (Y):
B57: 4.5. Laimėjusiu Pasiūlymu bus pripažintas Pasiūlymas, atitinkantis visus Pirkimo dokumentuose nustatytus reikalavimus, kurio ekonominis naudingumas (E) bus didžiausias.
B59: 4.6. Tais atvejais, kai kelių dalyvių pasiūlymų ekonominis naudingumas yra vienodas, nustatant pasiūlymų eilę, pirmesnis į šią eilę įrašomas dalyvis, kurio pasiūlymas pateiktas anksčiausiai.
...

Sheet EN vertinimas (pildo tiekėjai)
B3: Siūlomi techniniai funkcionalumai (Pildo Tiekėjas):
B5: Nr. | C5: Siūlomas techninis funkcionalumas | E5: Pasirinkti (Yra / Nėra) parametro reikšmę | F5: Failo, dokumento pavadinimas ir puslapio Nr., pažymintis vietą, kurioje yra siūlomą techninį pranašumą patvirtinantys dokumentai, siūlomos prekės katalogo numeris
B6: T1 | C6: ='Vertinimo tvarka ir sąlygos'!C17 -> Dirbtinio intelekto pagrindu veikianti automatinė standartinių akušerinių plokštumų (I ir II trimestro) atpažinimo, žymėjimo ir tyrimo išsamumo kontrolės funkcija realiame laike.
B7: T2 | C7: ='Vertinimo tvarka ir sąlygos'!C18 -> Automatizuotas vaisiaus centrinės nervų sistemos standartinių plokštumų išskyrimas iš tūrinio (3D) vaizdo ir automatiniai matavimai.
B8: T3 | C8: ='Vertinimo tvarka ir sąlygos'!C19 -> Automatinis folikulų atpažinimas, skaičiavimas ir matavimas (skersmenys ir tūris) tūriniame (3D) vaizde.
B9: T4 | C9: ='Vertinimo tvarka ir sąlygos'!C20 -> Tūrinio (3D/4D) endokavitalinio daviklio viršutinė darbinio dažnių diapazono riba ≥ 14 MHz.
B10: T5 | C10: ='Vertinimo tvarka ir sąlygos'!C21 -> 1. Sistema automatiškai suranda ir parenka ryškiausią 2D kadrą per iš anksto nustatytą peržiūros laiką po sustabdymo. Peržiūros laiką gali reguliuoti vartotojas. 2. Sistema automatiškai suranda ir parenka kadrą spalvinio doplerio režime su geriausiu spalviniu užpildymu sustabdžius vaizdą. Peržiūros laiką gali reguliuoti vartotojas. Turi veikti spalvinio doplerio ir spalvinio/spektrinio doplerio režimuose.
B11: T6 | C11: ='Vertinimo tvarka ir sąlygos'!C22 -> Galima savarankiškai rankiniu būdu reguliuoti automatinį realaus laiko vaizdo optimizavimo algoritmą tolimajame lauke, siekiant subalansuoti ryškumą audiniuose.
B13: Siūlomos prekės garantinis laikotarpis | D13: Pasirinkti garantinį laikotarpį | E13: Terminas
B14: Siūlomas prietaiso garantinis laikotarpis* | E14: metai
B15: * Garantijos laikotarpiu tiekėjas teisės aktų nustatyta tvarka nemokamai:
B16: 1. atlieka prekės techninę priežiūrą (įskaitant techninei priežiūrai atlikti reikalingas detales ir/arba medžiagas);
B18: 2. atlieka garantijos sąlygas atitinkančių gedimų (jei jie nutiko naudojant įrangą pagal paskirtį, laikantis pateiktų instrukcijų bei nurodytų eksploatavimo sąlygų) šalinimą;
B20: 3. informuoja pirkėją apie prevencinius veiksmus (jei tokių būtina imtis);
B21: 4. teikia pirkėjui išsamias konsultacijas ir paaiškinimus;
B22: 5. gedimo atveju atvyksta remontuoti ne vėliau kaip per 48 (keturiasdešimt aštuonias) valandas nuo pranešimo apie prekės gedimą gavimo;

Sheet Specialieji reikalavimai
A1: SPECIALIEJI REIKALAVIMAI:
A2: 1. | B2: Viešojo pirkimo komisijai pareikalavus, techninių parametrų atitikimo įvertinimui, turi būti pateikti siūlomų prekių pavyzdžiai.
A3: 2. | B3: Siūlomos prekės privalo turėti CE sertifikatą arba EB deklaraciją.
A4: 3. | B4: Tiekėjas turi būti siūlomos įrangos gamintojas arba oficialus siūlomos įrangos gamintojo įgaliotasis atstovas, arba turi turėti rašytinį susitarimą su tokiu įgaliotuoju atstovu dėl prekybos šia įranga ir su pasiūlymu turi pateikti tai patvirtinantį dokumentą*. Tiekėjas turi turėti gamintojo įgaliojimą atlikti siūlomos įrangos instaliavimą ir garantinį aptarnavimą arba turi turėti rašytinį susitarimą su kitu ūkio subjektu, kuris yra gamintojo įgaliotas atlikti šios įrangos instaliavimą ir garantinį aptarnavimą. Tiekėjas dokumentus, įrodančius, kad pirkimo sutartį vykdys turėdami teisę instaliuoti ir teikti garantinį aptarnavimą, privalo pristatyti kartu su prekėmis. Reikalavimas netaikomas kartu su įranga siūlomiems kompiuteriams ir periferinei įrangai (monitorius, klaviatūra, pelė, spausdintuvas, nepertraukiamos el. srovės šaltinis), t.y. Tiekėjas neprivalo būti siūlomo kompiuterio ir periferinės įrangos gamintojas arba būti oficialus siūlomo kompiuterio ir periferinės įrangos gamintojo įgaliotasis atstovas, bei neprivalo turėti rašytinio susitarimo su siūlomo kompiuterio ir periferinės įrangos įgaliotuoju atstovu dėl prekybos.
A12: 4. | B12: Į pasiūlymo kainą turi būti įskaičiuotas įrangos pristatymas į Lietuvos sveikatos mokslų universiteto ligoninės Kauno klinikų sandėlį, pervežimas iš sandėlio į instaliavimo vietą, instaliavimas, po instaliavimo likusių įpakavimo medžiagų išvežimas (utilizavimas) ir personalo apmokymas.
A14: 5. | B14: Kartu su įranga pateikiama dokumentacija:
B15: 1. Naudojimo instrukcija lietuvių ir anglų kalba.
B16: 2. Serviso dokumentacija lietuvių arba anglų kalba.
B17: 3. Periodiškai atliekamų techninės priežiūros (TP) darbų sąvadas, su nuorodomis į gamintojo techninės eksploatacijos dokumentus. Reglamente taip pat nurodoma: TP periodiškumas, darbo priemonės, dalys ir medžiagos, reikalingos TP atlikti, bei jos darbų trukmė. Jei gamintojas TP nereglamentuoja - vietoje reglamento Tiekėjas pateikia pažymą, jog gamintojas TP nenumato.
B20: 4. Valymo - dezinfekavimo instrukcija, kurioje aprašoma valymo-dezinfekavimo procedūra ir periodiškumas, detalus naudojamų medžiagų ir priemonių sąrašas. Visos nurodomos priemonės privalo būti registruotos Lietuvoje.
B22: 5. CE sertifikato arba EB deklaracijos kopija. Pateikiant EB deklaracijos kopiją, kad pasiūlyta prekė atitiks reikiamus standartus, bei prekės klasei būtinus reglamentus, kartu pateikiami ir techniniai dokumentai, pagrindžiantys prekės atitiktį reikiamiems standartams bei reglamentams.
B24: 6. Gamintojo įgaliojimas atlikti siūlomos įrangos instaliavimą ir garantinį aptarnavimą arba rašytinis susitarimas su kitu ūkio subjektu, kuris yra gamintojo įgaliotas atlikti šios įrangos instaliavimą ir garantinį aptarnavimą.
A26: 6. | B26: Prekių maitinimo šaltinis turi atitikti Lietuvoje naudojamus elektros tinklo standartus.
A27: 7. | B27: Personalo mokymai (po apmokymų pateikti apmokymų aktą / sertifikatą arba kitą mokymų faktą įrodantį dokumentą):
B28: 1. Mokymai iki 10-ies medicininio personalo darbuotojų (mokymų trukmė: ne mažiau kaip 8 akademinės valandos (gali būti išskaidyti į kelias sesijas)),
B30: 2. Mokymai iki 2-jų Medicininės technikos tarnybos inžinierių (mokymų trukmė: ne mažiau kaip 2 akademinės valandos).
A32: * | B32: Lietuvos Respublikos sveikatos apsaugos ministro 2010 m. gegužės 3 d. įsakymas Nr. V-383 ,,Dėl Medicinos prietaisų instaliavimo, naudojimo ir priežiūros tvarkos aprašo patvirtinimo”1 (toliau: Aprašas) nustato medicinos priemonių naudojimo ir priežiūros reikalavimus, kuriais privalo vadovautis sveikatos priežiūros įstaigos ir asmenys, naudojantys medicinos priemones, teikdami paslaugas sveikatos priežiūros įstaigoms, taip pat asmenys, atliekantys medicinos priemonių priežiūrą. gydymo įstaigose. Šio įsakymo II skyriaus 6 d. nurodyta, kad Įstaigos gali pradėti naudoti tik Reglamento (ES) 2017/7452 arba In vitro diagnostikos medicinos priemonių saugos techninio reglamento (toliau: Reglamentas), kurį tvirtina sveikatos apsaugos ministras, reikalavimus atitinkančias medicinos priemones. Šio įsakymo III skyriaus 15 d. nurodyta, kad medicinos priemonę gali instaliuoti tik medicinos priemonės gamintojas arba medicinos priemonės gamintojo paskirtas asmuo. Vadovaujantis Apraše nurodytais reikalavimais, bei Reglamente nustatomos taisyklės dėl žmonėms skirtų medicinos priemonių ir šių priemonių priedų pateikimo rinkai, tiekimo rinkai ar naudojimo pradžios Sąjungoje visais atvejais pirkimo dokumentų specialiojoje dalyje privaloma nustatyti reikalavimą, kad Tiekėjas turi būti siūlomos įrangos gamintojas arba oficialus siūlomos įrangos gamintojo įgaliotasis atstovas, arba turi turėti rašytinį susitarimą su tokiu įgaliotuoju atstovu dėl prekybos šia įranga ir su pasiūlymu turi pateikti tai patvirtinantį dokumentą, bei turi turėti gamintojo įgaliojimą atlikti siūlomos įrangos instaliavimą ir garantinį aptarnavimą arba turi turėti rašytinį susitarimą su kitu ūkio subjektu, kuris yra gamintojo įgaliotas atlikti šios įrangos instaliavimą ir garantinį aptarnavimą. Tiekėjas šiuos dokumentus, įrodančius, kad pirkimo sutartį vykdys turėdami teisę instaliuoti ir teikti garantinį aptarnavimą, privalo pristatyti kartu su prekėmis (toliau: Reikalavimai). Šie reikalavimai galioja tik toms medicinos priemonėms, kurios yra apibrėžtos Reglamente. Pagal Reglamentą medicinos priemonė – instrumentas, aparatas, įtaisas, programinė įranga, implantas, reagentas, medžiaga arba kitas gaminys, gamintojo numatytas naudoti pats vienas arba suderintas su kitomis priemonėmis ir skirtas žmogui vienu arba keliais toliau išdėstytais konkrečiais medicininiais tikslais: 1. diagnozuoti, vykdyti profilaktiką, stebėti, numatyti, prognozuoti, gydyti ar palengvinti ligą, 2. diagnozuoti, stebėti, gydyti traumą ar negalią, jas palengvinti arba kompensuoti, 3. tirti, visiškai pakeisti arba modifikuoti anatomiją arba fiziologinį ar patologinį procesą ar būklę, 4. suteikti informacijos atliekant iš žmogaus organizmo paimtų mėginių, įskaitant donorų organus, kraują ir audinius, in vitro tyrimus, 5. žmogaus organizmo iš vidaus ar išorės farmakologinėmis, imunologinėmis ar metabolinėmis priemonėmis, tačiau pastarosios gali būti naudojamos kaip pagalbinės priemonės jos veikimui užtikrinti. 6. priemonės, kuriomis kontroliuojamas apvaisinimas ar padedama apvaisinti; Vadovaujantis išdėstytais argumentais konkrečiai šiam pirkimui privaloma specialiųjų pirkimo sąlygų 4 p. nustatyti šiame pagrindime suformuluotus reikalavimus.
B59: 1 https://e-seimas.lrs.lt/portal/legalAct/lt/TAD/TAIS.371838/asr
B60: 2 https://eur-lex.europa.eu/legal-content/EN/LSU/?uri=CELEX%3A32017R0745

Sheet Techninė specifikacija
D1: TSD-929, VPP-5920
A3: 1 pirkimo dalis. Ekspertinės klasės UG aparatas, kiekis 1 vnt.
A5: Tiekėjo pasiūlymas:
A6: Eil. nr. | B6: Parametrai | C6: Reikalaujamo parametro reikšmė | D6: Tiekėjo siūlomos įrangos parametrų reikšmės (įrašomos tikslios ir konkrečios reikšmės) | E6: Failo, dokumento pavadinimas ir puslapio Nr., pažymintis vietą, kurioje yra siūlomus techninius parametrus patvirtinantys dokumentai, siūlomos prekės katalogo numeris
A7: 1. | B7: Bendri reikalavimai
A8: 1.1. | B8: Sistemos komplektaciją sudaro | C8: 1. Ultragarso tyrimų aparatas – 1 vnt.;
C9: 2. Tūrinis (3D/4D) konveksinis daviklis – 1 vnt.;
C10: 3. Tūrinis (3D/4D) endokavitalinis daviklis – 1 vnt.;
C11: 4. Konveksinis (2D) daviklis Nr. 1 (aukšto dažnio) – 1 vnt.;
C12: 5. Konveksinis (2D) daviklis Nr. 2 (žemo dažnio) – 1 vnt.;
C13: 6. Linijinis daviklis – 1 vnt.;
C14: 7. Nespalvoto vaizdo terminis spausdintuvas – 1 vnt.
C15: 8. Daugkartinis biopsinės adatos nukreipiklis endokavitaliniam davikliui – 1 vnt.
A16: 1.2. | B16: Taikymo sritys | C16: 1. Akušeriniai tyrimai (I, II ir III nėštumo trimestrai), įskaitant daugiavaisį nėštumą;
C17: 2. Vaisiaus širdies tyrimai;
C18: 3. Ginekologiniai tyrimai (transabdominaliniai ir transvaginaliniai);
C19: 4. Reprodukcinės medicinos tyrimai (folikulometrija);
C20: 5. Dubens dugno tyrimai;
C21: 6. Vidaus organų, smulkių kūno dalių ir kraujagyslių tyrimai.
A22: 2. | B22: Reikalavimai ultragarso tyrimų aparatui
A23: 2.1. | B23: Sistemos architektūra | C23: 1. Mobili sistema su ratukais ir ratukų fiksacijos mechanizmu;
C24: 2. ≥ 4 aktyvios jungtys ultragarsiniams davikliams prijungti;
C25: 3. Vaizdo monitorius pritvirtintas ant pilnai artikuliuojančio šarnyrinio laikiklio (rankos) – pasukamas į šonus, palenkiamas, pakeliamas aukštyn/žemyn ir nulenkiamas transportavimo metu;
C26: 4. Reguliuojamas valdymo pulto aukštis ir pasukimas;
C27: 5. Integruotas atsarginio maitinimo akumuliatorius arba nepertraukiamo maitinimo šaltinis (UPS), leidžiantis išsaugoti tyrimo duomenis ir saugiai išjungti sistemą nutrūkus maitinimui;
C28: 6. Sistemos dinaminis diapazonas ≥ 250 dB.
A29: 2.2. | B29: Vaizdo monitorius | C29: 1. LCD arba OLED (arba lygiavertės technologijos);
C30: 2. Ekrano įstrižainė ≥ 60 cm (≥ 23,8 col.);
C31: 3. Skiriamoji geba ≥ 1920×1080 vaizdo elementų.
A32: 2.3. | B32: Lietimui jautrus sistemos funkcijų valdymo monitorius | C32: 1. Ekrano įstrižainė ≥ 30 cm (≥ 12 col.);
C33: 2. Skaitmeninė klaviatūra arba klaviatūra valdymo panelėje.
A34: 2.4. | B34: Sistemos palaikomų daviklių dažnio diapazonas | C34: Palaikomas dažnių diapazonas ne siauresnis nei nuo 1,0 MHz iki 19,0 MHz
A35: 2.5. | B35: Išorinės jungtys (arba lygiavertės) | C35: 1. USB;
C36: 2. HDMI arba DisplayPort;
C37: 3. LAN.
A38: 2.6. | B38: Darbo režimai | C38: 1. 2D režimas;
C39: 2. Vienmatis režimas M (įskaitant anatominį M režimą);
C40: 3. Spalvinio doplerio režimas;
C41: 4. Galios (įskaitant kryptinį) doplerio režimas;
C42: 5. Pulsinės bangos (PW) doplerio režimas;
...

Sheet Pasiūlymų suvestinė_Bendra
B3: Tiekėjas 1 | C3: Tiekėjas 2 | D3: Tiekėjas 3
A4: Pasiūlymo kaina (Pkn), € su PVM
A5: Siūlomas garantinis laikotarpis (TnGL), metai
A6: Techninis pranašumas T1 (T1n)
A7: Techninis pranašumas T2 (T2n)
A8: Techninis pranašumas T3 (T3n)
A9: Techninis pranašumas T4 (T4n)
A10: Techninis pranašumas T5 (T5n)
A11: Techninis pranašumas T6 (T6n)
A13: Žymėjimų paaiškinimai:
A14: Pkn - Tiekėjo n siūlomo medicinos prietaiso kaina (€ su PVM), nurodyta komerciniame pasiūlyme.
A15: TnGL - Tiekėjo n siūlomas prietaiso garantinis laikotarpis (metais). Minimalus garantinis laikorpis yra 3 m., tačiau kiekvienas Tiekėjas gali duoti papildomą garantiją už kurią gaus ekonominį pranašumą, t.y. už kiekvienus papildomus metus Tiekėjui bus minusuojami 6 % nuo pasiūlymo kainos.
A17: T1n - T6n - Tiekėjo n Techninis pranašumas, nurodytas "Vertinimo tvarkoje ir sąlygose" (Yra / Nėra).

Sheet Pasiūlymų suvestinė_Koreguota
B3: Tiekėjas 1 | C3: Tiekėjas 2 | D3: Tiekėjas 3
A4: Ekonominis pranašumas už suteiktą papildomą garantiją, € su PVM (EpPGn) | B4: =('Pasiūlymų suvestinė_Bendra'!B5-'Vertinimo tvarka ir sąlygos'!H65)*('Pasiūlymų suvestinė_Bendra'!B4*(('Vertinimo tvarka ir sąlygos'!H64/100))) -> 0 | C4: =('Pasiūlymų suvestinė_Bendra'!C5-'Vertinimo tvarka ir sąlygos'!H65)*('Pasiūlymų suvestinė_Bendra'!C4*(('Vertinimo tvarka ir sąlygos'!H64/100))) -> 0 | D4: =('Pasiūlymų suvestinė_Bendra'!D5-'Vertinimo tvarka ir sąlygos'!H65)*('Pasiūlymų suvestinė_Bendra'!D4*(('Vertinimo tvarka ir sąlygos'!H64/100))) -> 0
A5: Koreguota pasiūlymo kaina, € su PVM (KPKn) | B5: ='Pasiūlymų suvestinė_Bendra'!B4-'Pasiūlymų suvestinė_Koreguota'!B4 -> 0 | C5: ='Pasiūlymų suvestinė_Bendra'!C4-'Pasiūlymų suvestinė_Koreguota'!C4 -> 0 | D5: ='Pasiūlymų suvestinė_Bendra'!D4-'Pasiūlymų suvestinė_Koreguota'!D4 -> 0
A7: Žymėjimų paaiškinimai ir formulės:
A8: EpPGn - Tiekėjo n gaunamas ekonominis pranašumas už suteiktą papildomą garantiją, € su PVM.
A9: KPKn - Tiekėjo n koreguota pasiūlo kaina, € su PVM.
A11: Formulės:
A12: EpPGn = (TnGL - MGL) x (Pkn x (EpPG/100))
A14: KPKn = Pkn - EpPGn

Sheet Pasiūlymų vertinimo rezultatai
B2: Tiekėjas 1 | C2: Tiekėjas 2 | D2: Tiekėjas 3
A3: Pasiūlymo kaina (Pkn), € su PVM | B3: ='Pasiūlymų suvestinė_Bendra'!B4 -> 0 | C3: ='Pasiūlymų suvestinė_Bendra'!C4 -> 0 | D3: ='Pasiūlymų suvestinė_Bendra'!D4 -> 0
A4: Koreguota pasiūlymo kaina (KPKn), € su PVM | B4: ='Pasiūlymų suvestinė_Koreguota'!B5 -> 0 | C4: ='Pasiūlymų suvestinė_Koreguota'!C5 -> 0 | D4: ='Pasiūlymų suvestinė_Koreguota'!D5 -> 0
A5: Pasiūlymo kainos balas (PkBn) | B5: =(MIN(B3:D3)/B3)*'Vertinimo tvarka ir sąlygos'!H14 -> #DIV/0! | C5: =(MIN(B3:D3)/C3)*'Vertinimo tvarka ir sąlygos'!H14 -> #DIV/0! | D5: =(MIN(B3:D3)/D3)*'Vertinimo tvarka ir sąlygos'!H14 -> #DIV/0!
A6: Koreguotos pasiūlymo kainos balas (KPkBn) | B6: =(MIN(B4:D4)/B4)*'Vertinimo tvarka ir sąlygos'!H14 -> #DIV/0! | C6: =(MIN(B4:D4)/C4)*'Vertinimo tvarka ir sąlygos'!H14 -> #DIV/0! | D6: =(MIN(B4:D4)/D4)*'Vertinimo tvarka ir sąlygos'!H14 -> #DIV/0!
A7: Ekonominių pranašumų balas (Tn) | B7: =SUM(B8:B13)*'Vertinimo tvarka ir sąlygos'!H15 -> 0 | C7: =SUM(C8:C13)*'Vertinimo tvarka ir sąlygos'!H15 -> 0 | D7: =SUM(D8:D13)*'Vertinimo tvarka ir sąlygos'!H15 -> 0
A8: T1n | B8: =COUNTIF('Pasiūlymų suvestinė_Bendra'!B6, "Yra")*'Vertinimo tvarka ir sąlygos'!F17 -> 0 | C8: =COUNTIF('Pasiūlymų suvestinė_Bendra'!C6, "Yra")*'Vertinimo tvarka ir sąlygos'!F17 -> 0 | D8: =COUNTIF('Pasiūlymų suvestinė_Bendra'!D6, "Yra")*'Vertinimo tvarka ir sąlygos'!F17 -> 0
A9: T2n | B9: =COUNTIF('Pasiūlymų suvestinė_Bendra'!B7, "Yra")*'Vertinimo tvarka ir sąlygos'!F18 -> 0 | C9: =COUNTIF('Pasiūlymų suvestinė_Bendra'!C7, "Yra")*'Vertinimo tvarka ir sąlygos'!F18 -> 0 | D9: =COUNTIF('Pasiūlymų suvestinė_Bendra'!D7, "Yra")*'Vertinimo tvarka ir sąlygos'!F18 -> 0
A10: T3n | B10: =COUNTIF('Pasiūlymų suvestinė_Bendra'!B8, "Yra")*'Vertinimo tvarka ir sąlygos'!F19 -> 0 | C10: =COUNTIF('Pasiūlymų suvestinė_Bendra'!C8, "Yra")*'Vertinimo tvarka ir sąlygos'!F19 -> 0 | D10: =COUNTIF('Pasiūlymų suvestinė_Bendra'!D8, "Yra")*'Vertinimo tvarka ir sąlygos'!F19 -> 0
A11: T4n | B11: =COUNTIF('Pasiūlymų suvestinė_Bendra'!B9, "Yra")*'Vertinimo tvarka ir sąlygos'!F20 -> 0 | C11: =COUNTIF('Pasiūlymų suvestinė_Bendra'!C9, "Yra")*'Vertinimo tvarka ir sąlygos'!F20 -> 0 | D11: =COUNTIF('Pasiūlymų suvestinė_Bendra'!D9, "Yra")*'Vertinimo tvarka ir sąlygos'!F20 -> 0
A12: T5n | B12: =COUNTIF('Pasiūlymų suvestinė_Bendra'!B10, "Yra")*'Vertinimo tvarka ir sąlygos'!F21 -> 0 | C12: =COUNTIF('Pasiūlymų suvestinė_Bendra'!C10, "Yra")*'Vertinimo tvarka ir sąlygos'!F21 -> 0 | D12: =COUNTIF('Pasiūlymų suvestinė_Bendra'!D10, "Yra")*'Vertinimo tvarka ir sąlygos'!F21 -> 0
A13: T6n | B13: =COUNTIF('Pasiūlymų suvestinė_Bendra'!B11, "Yra")*'Vertinimo tvarka ir sąlygos'!F22 -> 0 | C13: =COUNTIF('Pasiūlymų suvestinė_Bendra'!C11, "Yra")*'Vertinimo tvarka ir sąlygos'!F22 -> 0 | D13: =COUNTIF('Pasiūlymų suvestinė_Bendra'!D11, "Yra")*'Vertinimo tvarka ir sąlygos'!F22 -> 0
A14: Ekonominio naudingumo (En) balas | B14: =SUM(B6+B7) -> #DIV/0! | C14: =SUM(C6+C7) -> #DIV/0! | D14: =SUM(D6+D7) -> #DIV/0!
A15: Tiekėjų pasiūlymų reitingavimas* | B15: =_xlfn.RANK.EQ(B14, $B$14:$D$14, 0) -> #DIV/0! | C15: =_xlfn.RANK.EQ(C14, $B$14:$D$14, 0) -> #DIV/0! | D15: =_xlfn.RANK.EQ(D14, $B$14:$D$14, 0) -> #DIV/0!
B17: * Reitingavimas vyksta automatiškai. Tuo atveju jei kelių tiekėjų Ekonominio naudingumo balas (E) sutampa, tokiu atveju PO laimėtoją pasirenka pagal pirkimo dokumentuose nustatytas sąlygas ir VPĮ.

Sheet Sheet6
A1: Taip
A2: Ne
