Workbook

Sheet Priedas4_Aktas Nr.1
B2: Paslaugų 202____ - _____-_____ Sutarties Nr. SUT_____, I dalis, Priedas Nr. 4
B4: Tiekėjo pavadinimas, juridinio asmens kodas
B5: PASLAUGŲ PRIĖMIMO – PERDAVIMO AKTAS, NR. 1
B6: už 202_ m. __________ mėnesį
B7: 202___-_____-
B9: Eil. Nr. | C9: Rodiklio pavadinimas (I pirkimo objekto dalis) | D9: Transporto priemonės tipas (pvz.: M2/M3 CV/CE/CM dyzelis) | E9: Transporto priemonės tipas (pvz.: M2/M3 CV/CE/CM elektra) | F9: Iš viso
B10: 1. | C10: 2. | D10: 3. | E10: 4. | F10: 5.
B11: 1 | C11: Faktinė (įvykdyta) rida (Mf), km | D11: 0 | E11: ='Priedas4_Ridos ataskaita Nr.2'!H24 -> 0 | F11: =D11+E11 -> 0
B12: 2 | C12: Neįvykdytų reisų sk. (Rn), vnt. | D12: 0 | E12: ='Priedas4_Ridos ataskaita Nr.2'!I24 -> 0 | F12: =D12+E12 -> 0
B13: 3 | C13: Patvirtintas 1 kilometro įkainis (K1; K2), Eur be PVM | D13: 0 | E13: 0 | F13: =D13+E13 -> 0
B14: 4 | C14: Priskaičiuota už pravažiuotus kilometrus, Eur be PVM | D14: =D11*D13 -> 0 | E14: =E11*E13 -> 0 | F14: =D14+E14 -> 0
B15: 5 | C15: (-) *Pajamos gautos (gauta pinigų suma) už parduotus važiavimo autobusais bilietus (P), Eur be PVM | D15: 0 | E15: 0 | F15: =D15+E15 -> 0
B16: 6 | C16: (-) Baudos (B), Eur be PVM | D16: 0 | E16: 0 | F16: =D16+E16 -> 0
B17: 7 | C17: Mokėtina suma už pravažiuotus kilometrus (C), Eur be PVM | D17: =D14-(D15+D16) -> 0 | E17: =E14-(E15+E16) -> 0 | F17: =D17+E17 -> 0
B18: *Pateikiamos kasos aparatų juostos, banko sąskaitų išrašai ar kt. dokumentai pagrindžiantys gautų pajamų už parduotus važiavimo bilietus surinkimą/ įskaitymą.
B19: Perdavė:
B20: Įmonės, vadovas, pareigos, vardas pavardė | E20: Vyr. finansininkas (buhalteris)
B23: Įmonės Vyr. finansininkas (buhalteris (– ė)), vardas pavardė
B25: Priėmė:
B26: Alytaus rajono savivaldybės administracija
B29: Paslaugų 202____ - _____-_____ Sutarties Nr. SUT_____, II dalis, Priedas Nr. 4
B31: Tiekėjo pavadinimas, juridinio asmens kodas
B32: PASLAUGŲ PRIĖMIMO – PERDAVIMO AKTAS, NR. 1
B33: Ataskaita už 202_ m. __________ mėnesį
B34: 202___-_____-
B36: Eil. Nr. | C36: Rodiklio pavadinimas (II pirkimo objekto dalis) | D36: Transporto priemonės tipas (pvz.: M2/M3 CV/CE/CM dyzelis) | E36: Transporto priemonės tipas (pvz.: M2/M3 CV/CE/CM elektra) | F36: Iš viso
B37: 1. | C37: 2. | D37: 3. | E37: 4. | F37: 5.
B38: 1 | C38: Faktinė (įvykdyta) rida (Mf), km | D38: ='Priedas4_Ridos ataskaita Nr.2'!H49 -> 0 | E38: ='Priedas4_Ridos ataskaita Nr.2'!H24 -> 0 | F38: =D38+E38 -> 0
B39: 2 | C39: Neįvykdytų reisų sk. (Rn), vnt. | D39: ='Priedas4_Ridos ataskaita Nr.2'!I56 -> 0 | E39: ='Priedas4_Ridos ataskaita Nr.2'!I57 -> 0 | F39: =D39+E39 -> 0
B40: 3 | C40: Patvirtintas 1 kilometro įkainis (K1; K2), Eur be PVM | D40: 0 | E40: 0 | F40: =D40+E40 -> 0
B41: 4 | C41: Priskaičiuota už pravažiuotus kilometrus, Eur be PVM | D41: =D38*D40 -> 0 | E41: =E38*E40 -> 0 | F41: =D41+E41 -> 0
B42: 5 | C42: (-) *Pajamos gautos (gauta pinigų suma) už parduotus važiavimo autobusais bilietus (P), Eur be PVM | D42: 0 | E42: 0 | F42: =D42+E42 -> 0
B43: 6 | C43: (-) Baudos (B), Eur be PVM | D43: 0 | E43: 0 | F43: =D43+E43 -> 0
B44: 7 | C44: Mokėtina suma už pravažiuotus kilometrus (C), Eur be PVM | D44: =D41-(D42+D43) -> 0 | E44: =E41-(E42+E43) -> 0 | F44: =D44+E44 -> 0
B45: *Pateikiamos kasos aparatų juostos, banko sąskaitų išrašai ar kt. dokumentai pagrindžiantys gautų pajamų už parduotus važiavimo bilietus surinkimą/ įskaitymą.
B47: Perdavė:
B48: Įmonės, vadovas, pareigos, vardas pavardė
B51: Įmonės Vyr. finansininkas (buhalteris (– ė)), vardas pavardė
B53: Priėmė:
B54: Alytaus rajono savivaldybės administracija

Sheet Priedas4_Ridos ataskaita Nr.2
B2: Paslaugų 202____ - _____-_____ Sutarties Nr. SUT_____, I dalis, Priedas Nr. 4
B4: Tiekėjo pavadinimas, juridinio asmens kodas
B5: Pravažiuotos ridos ir įvykdytų reisų pagal maršrutus ir transporto priemones ataskaita, Nr. 2
B6: Ataskaita už 202_ m. __________ mėnesį
B7: 202___-_____-
B8: Pastaba: ataskaita pildoma pagal Transporto priemonėskategoriją, tipą, kuro rūšį (pvz.: M2/M3 CV/CE/CM dyzelis/ elektra)
B9: Eil. Nr. | C9: Autobusų maršrutų sąrašas, I pirkimo dalies pakete | D9: Maršruto ilgis (M), km (nulinė rida įskaityta) | E9: Planinė rida, km | F9: Planinis reisų sk. (Rp), vnt. | G9: Faktinis reisų sk. (Rf), vnt. | H9: Faktinė (įvykdyta) rida (Mf), km | I9: Neįvykdytų reisų sk. (Rn, vnt. | J9: Transporto priemonės tipas (pvz. M2 CE dyzelis/ M3 CE elektrinis)
B10: 1. | C10: 2. | D10: 3. | E10: 4. | F10: 5. | G10: 6. | H10: 7. | I10: 8. | J10: 9.
B11: 1 | C11: M1 Alytus–Geniai | D11: 496 | E11: 0 | F11: 0 | G11: =F11-I11 -> 0 | H11: 0 | I11: 0 | J11: pvz.: M2/M3 CV/CE/CM dyzelis
B12: 2 | C12: M2 Alytus–Ūdrija–Krokialaukis | D12: 1035 | E12: 0 | F12: 0 | G12: =F12-I12 -> 0 | H12: 0 | I12: 0 | J12: pvz.: M2/M3 CV/CE/CM dyzelis
B13: 3 | C13: M10 Alytus–Vosbūčiai per Miroslavą | D13: 2519 | E13: 0 | F13: 0 | G13: =F13-I13 -> 0 | H13: 0 | I13: 0 | J13: pvz.: M2/M3 CV/CE/CM dyzelis
B14: 4 | C14: M11 Alytus–Simnas per Parėčėnus | D14: 5157 | E14: 0 | F14: 0 | G14: =F14-I14 -> 0 | H14: 0 | I14: 0 | J14: pvz.: M2/M3 CV/CE/CM dyzelis
B15: 5 | C15: M12 Alytus–Verebiejai per Simną, Žuvintus M13 Alytus–Žuvintai per Simną, Verebiejus | D15: 3705 | E15: 0 | F15: 0 | G15: =F15-I15 -> 0 | H15: 0 | I15: 0 | J15: pvz.: M2/M3 CV/CE/CM elektrinis
B16: 6 | C16: M14 Alytus–Simnas–Kalesninkai | D16: 2997 | E16: 0 | F16: 0 | G16: =F16-I16 -> 0 | H16: 0 | I16: 0 | J16: pvz.: M2/M3 CV/CE/CM dyzelis
B17: 7 | C17: M16 Alytus–Krokialaukis–Santaika M17 Alytus–Krokialaukis–Santaika-Žuvinto rez. | D17: 4090 | E17: 0 | F17: 0 | G17: =F17-I17 -> 0 | H17: 0 | I17: 0 | J17: pvz.: M2/M3 CV/CE/CM dyzelis
B18: 8 | C18: M18 Alytus–Eigirdonys per Kedonis, Butrimonis | D18: 2166 | E18: 0 | F18: 0 | G18: =F18-I18 -> 0 | H18: 0 | I18: 0 | J18: pvz.: M2/M3 CV/CE/CM dyzelis
B19: 9 | C19: M22 Alytus–Simnas–Verebiejai–Krokialaukis–Santaika–Alytus | D19: 2843 | E19: 0 | F19: 0 | G19: =F19-I19 -> 0 | H19: 0 | I19: 0 | J19: pvz.: M2/M3 CV/CE/CM dyzelis
B20: 10 | C20: M23 Alytus–Punia–Butrimonys–Eigirdonys | D20: 5397 | E20: 0 | F20: 0 | G20: =F20-I20 -> 0 | H20: 0 | I20: 0 | J20: pvz.: M2/M3 CV/CE/CM dyzelis
B21: 11 | C21: M25 Alytus („Gulbynė“)–SB „Volungėlė“, „Pušelė“ | D21: 3180 | E21: 0 | F21: 0 | G21: =F21-I21 -> 0 | H21: 0 | I21: 0 | J21: pvz.: M2/M3 CV/CE/CM dyzelis
B22: 12 | C22: Iš viso: | D22: =SUM(D11:D21) -> 33585 | E22: =SUM(E11:E21) -> 0 | F22: =SUM(F11:F21) -> 0 | G22: =SUM(G11:G21) -> 0 | H22: =SUM(H11:H21) -> 0 | I22: =SUM(I11:I21) -> 0
B23: 12.1 | C23: Iš jų, (pvz. M2/M3 CV/CE/CM, dyzelinis): | D23: =D22-D15 -> 29880 | E23: =E22-E15 -> 0 | F23: =F22-F15 -> 0 | G23: =G22-G15 -> 0 | H23: =H22-H15 -> 0 | I23: =I22-I15 -> 0
B24: 12.2 | C24: Iš jų, (pvz. M2/M3 CV/CE/CM, elektrinis): | D24: =D15 -> 3705 | E24: =E15 -> 0 | F24: =F15 -> 0 | G24: =G15 -> 0 | H24: =H15 -> 0 | I24: =I15 -> 0
B26: Perdavė:
B27: Įmonės, vadovas, pareigos, vardas pavardė
B30: Įmonės Vyr. finansininkas (buhalteris (– ė)), vardas pavardė
B32: Priėmė:
B33: Alytaus rajono savivaldybės administracija
B36: Paslaugų 202____ - _____-_____ Sutarties Nr. SUT_____, II dalis, Priedas Nr. 4
B38: Tiekėjo pavadinimas, juridinio asmens kodas
B39: Pravažiuotos ridos ir įvykdytų reisų pagal maršrutus ir transporto priemones ataskaita, Nr. 2
B40: Ataskaita už 202_ m. __________ mėnesį
B41: 202___-_____-
B42: Pastaba: ataskaita pildoma pagal Transporto priemonės kategoriją, tipą, kuro rūšį (pvz.: M2/M3 CV/CE/CM dyzelis/ elektra)
B43: Eil. Nr. | C43: Autobusų maršrutų sąrašas, II pirkimo dalies pakete | D43: Maršruto ilgis (M), km (nulinė rida įskaityta) | E43: Planinė rida, km | F43: Planinis reisų sk. (Rp), vnt. | G43: Faktinis reisų sk. (Rf), vnt. | H43: Faktinė (įvykdyta) rida (Mf), km | I43: Neįvykdytų reisų sk. (Rn, vnt. | J43: Transporto priemonės tipas (pvz. M2 CE dyzelis/ M3 CE elektrinis)
B44: 1. | C44: 2. | D44: 3. | E44: 4. | F44: 5. | G44: 6. | H44: 7. | I44: 8. | J44: 9.
B45: 1 | C45: M3 Alytus–Punios girininkija | D45: 1496 | E45: 0 | F45: 0 | G45: =F45-I45 -> 0 | H45: 0 | I45: 0 | J45: pvz.: M2/M3 CV/CE/CM dyzelis
B46: 2 | C46: M4 Alytus–Pivašiūnai per Junčionis | D46: 3480 | E46: 0 | F46: 0 | G46: =F46-I46 -> 0 | H46: 0 | I46: 0 | J46: pvz.: M2/M3 CV/CE/CM dyzelis
B47: 3 | C47: M5 Alytus–Ilgai per Venciūnus, Alovę | D47: 4099.1667 | E47: 0 | F47: 0 | G47: =F47-I47 -> 0 | H47: 0 | I47: 0 | J47: pvz.: M2/M3 CV/CE/CM dyzelis
B48: 4 | C48: M6 Alytus–Pivašiūnai per Daugus Skabeikius, Kančėnai | D48: 4574.1667 | E48: 0 | F48: 0 | G48: =F48-I48 -> 0 | H48: 0 | I48: 0 | J48: pvz.: M2/M3 CV/CE/CM dyzelis
B49: 5 | C49: M7 Alytus–SB Berželis–Nemunaitis | D49: 3629.8333 | E49: 0 | F49: 0 | G49: =F49-I49 -> 0 | H49: 0 | I49: 0 | J49: pvz.: M2/M3 CV/CE/CM dyzelis
...

Sheet Priedas4_Bilietų ataskaita Nr.3
B1: Paslaugų 202____ - _____-_____ Sutarties Nr. SUT_____, I dalis, Priedas Nr. 4
B3: Tiekėjo pavadinimas, juridinio asmens kodas
B4: Ataskaita apie parduotus važiavimo vietinio (priemiestinio) reguliaraus susisiekimo autobusų maršrutais bilietus, Nr. 3
B5: Ataskaita už 202_ m. __________ mėnesį
B6: 202___-_____-
B8: Eil. Nr. | C8: Maršruto numeris ir pavadinimas, I pirkimo dalies pakete | D8: Parduotų su 50 % lengvata bilietų skaičius, vnt. | E8: Parduotų su 80 % lengvata bilietų skaičius, vnt. | F8: Parduotų pilna kaina bilietų skaičius, vnt. | G8: Parduotų bilietų skaičius iš viso, vnt. | H8: Pajamos gautos už parduotus bilietus su 50 % lengvata, Eur be PVM | I8: Pajamos gautos už parduotus bilietus su 80 % lengvata, Eur be PVM | J8: Pajamos gautos už parduotus bilietus pilna kaina, Eur be PVM | K8: Pajamos gautos už parduotus bilietus iš viso, Eur be PVM
B9: 1. | C9: 2. | D9: 3. | E9: 4. | F9: 5. | G9: 6. | H9: 7. | I9: 8. | J9: 9. | K9: 10.
B10: 1 | C10: M1 Alytus–Geniai | D10: 0 | E10: 0 | F10: 0 | G10: =D10+E10+F10 -> 0 | H10: 0 | I10: 0 | J10: 0 | K10: =H10+I10+J10 -> 0
B11: 2 | C11: M2 Alytus–Ūdrija–Krokialaukis | D11: 0 | E11: 0 | F11: 0 | G11: =D11+E11+F11 -> 0 | H11: 0 | I11: 0 | J11: 0 | K11: =H11+I11+J11 -> 0
B12: 3 | C12: M10 Alytus–Vosbūčiai per Miroslavą | D12: 0 | E12: 0 | F12: 0 | G12: =D12+E12+F12 -> 0 | H12: 0 | I12: 0 | J12: 0 | K12: =H12+I12+J12 -> 0
B13: 4 | C13: M11 Alytus–Simnas per Parėčėnus | D13: 0 | E13: 0 | F13: 0 | G13: =D13+E13+F13 -> 0 | H13: 0 | I13: 0 | J13: 0 | K13: =H13+I13+J13 -> 0
B14: 5 | C14: M12 Alytus–Verebiejai per Simną, Žuvintus M13 Alytus–Žuvintai per Simną, Verebiejus | D14: 0 | E14: 0 | F14: 0 | G14: =D14+E14+F14 -> 0 | H14: 0 | I14: 0 | J14: 0 | K14: =H14+I14+J14 -> 0
B15: 6 | C15: M14 Alytus–Simnas–Kalesninkai | D15: 0 | E15: 0 | F15: 0 | G15: =D15+E15+F15 -> 0 | H15: 0 | I15: 0 | J15: 0 | K15: =H15+I15+J15 -> 0
B16: 7 | C16: M16 Alytus–Krokialaukis–Santaika M17 Alytus–Krokialaukis–Santaika-Žuvinto rez. | D16: 0 | E16: 0 | F16: 0 | G16: =D16+E16+F16 -> 0 | H16: 0 | I16: 0 | J16: 0 | K16: =H16+I16+J16 -> 0
B17: 8 | C17: M18 Alytus–Eigirdonys per Kedonis, Butrimonis | D17: 0 | E17: 0 | F17: 0 | G17: =D17+E17+F17 -> 0 | H17: 0 | I17: 0 | J17: 0 | K17: =H17+I17+J17 -> 0
B18: 9 | C18: M22 Alytus–Simnas–Verebiejai–Krokialaukis–Santaika–Alytus | D18: 0 | E18: 0 | F18: 0 | G18: =D18+E18+F18 -> 0 | H18: 0 | I18: 0 | J18: 0 | K18: =H18+I18+J18 -> 0
B19: 10 | C19: M23 Alytus–Punia–Butrimonys–Eigirdonys | D19: 0 | E19: 0 | F19: 0 | G19: =D19+E19+F19 -> 0 | H19: 0 | I19: 0 | J19: 0 | K19: =H19+I19+J19 -> 0
B20: 11 | C20: M25 Alytus („Gulbynė“)–SB „Volungėlė“, „Pušelė“ | D20: 0 | E20: 0 | F20: 0 | G20: =D20+E20+F20 -> 0 | H20: 0 | I20: 0 | J20: 0 | K20: =H20+I20+J20 -> 0
B21: 12 | C21: Iš viso (vnt., Eur be PVM): | D21: =SUM(D10:D20) -> 0 | E21: =SUM(E10:E20) -> 0 | F21: =SUM(F10:F20) -> 0 | G21: =SUM(G10:G20) -> 0 | H21: =SUM(H10:H20) -> 0 | I21: =SUM(I10:I20) -> 0 | J21: =SUM(J10:J20) -> 0 | K21: =SUM(K10:K20) -> 0
B22: *Kartu su ataskaita pateikiamos kasos aparatų juostos, banko sąskaitų išrašai ar kt. dokumentai pagrindžiantys gautų pajamų už parduotus važiavimo bilietus surinkimą/ įskaitymą.
B24: Perdavė:
B25: Įmonės, vadovas, pareigos, vardas pavardė
B28: Įmonės Vyr. finansininkas (buhalteris (– ė)), vardas pavardė
B30: Priėmė:
B31: Alytaus rajono savivaldybės administracija
B34: Paslaugų 202____ - _____-_____ Sutarties Nr. SUT_____, II dalis, Priedas Nr. 4
B36: Tiekėjo pavadinimas, juridinio asmens kodas
B37: Ataskaita apie parduotus važiavimo vietinio (priemiestinio) reguliaraus susisiekimo autobusų maršrutais bilietus, Nr. 3
B38: Ataskaita už 202_ m. __________ mėnesį
B39: 202___-_____-
B41: Eil. Nr. | C41: Maršruto numeris ir pavadinimas, II pirkimo dalies pakete | D41: Parduotų su 50 % lengvata bilietų skaičius, vnt. | E41: Parduotų su 80 % lengvata bilietų skaičius, vnt. | F41: Parduotų pilna kaina bilietų skaičius, vnt. | G41: Parduotų bilietų skaičius iš viso, vnt. | H41: Pajamos gautos už parduotus bilietus su 50 % lengvata, Eur be PVM | I41: Pajamos gautos už parduotus bilietus su 80 % lengvata, Eur be PVM | J41: Pajamos gautos už parduotus bilietus pilna kaina, Eur be PVM | K41: Pajamos gautos už parduotus bilietus iš viso, Eur be PVM
B42: 1. | C42: 2. | D42: 3. | E42: 4. | F42: 5. | G42: 6. | H42: 7. | I42: 8. | J42: 9. | K42: 10.
B43: 1 | C43: M3 Alytus–Punios girininkija | D43: 0 | E43: 0 | F43: 0 | G43: =D43+E43+F43 -> 0 | H43: 0 | I43: 0 | J43: 0 | K43: =H43+I43+J43 -> 0
B44: 2 | C44: M4 Alytus–Pivašiūnai per Junčionis | D44: 0 | E44: 0 | F44: 0 | G44: =D44+E44+F44 -> 0 | H44: 0 | I44: 0 | J44: 0 | K44: =H44+I44+J44 -> 0
B45: 3 | C45: M5 Alytus–Ilgai per Venciūnus, Alovę | D45: 0 | E45: 0 | F45: 0 | G45: =D45+E45+F45 -> 0 | H45: 0 | I45: 0 | J45: 0 | K45: =H45+I45+J45 -> 0
B46: 4 | C46: M6 Alytus–Pivašiūnai per Daugus Skabeikius, Kančėnai | D46: 0 | E46: 0 | F46: 0 | G46: =D46+E46+F46 -> 0 | H46: 0 | I46: 0 | J46: 0 | K46: =H46+I46+J46 -> 0
B47: 5 | C47: M7 Alytus–SB Berželis–Nemunaitis | D47: 0 | E47: 0 | F47: 0 | G47: =D47+E47+F47 -> 0 | H47: 0 | I47: 0 | J47: 0 | K47: =H47+I47+J47 -> 0
B48: 6 | C48: M9 Alytus–Klepočiai | D48: 0 | E48: 0 | F48: 0 | G48: =D48+E48+F48 -> 0 | H48: 0 | I48: 0 | J48: 0 | K48: =H48+I48+J48 -> 0
B49: 7 | C49: M15 Alytus–Pagilė per Meškučius, Daugus | D49: 0 | E49: 0 | F49: 0 | G49: =D49+E49+F49 -> 0 | H49: 0 | I49: 0 | J49: 0 | K49: =H49+I49+J49 -> 0
B50: 8 | C50: M19 Alytus–Greikonys per Butrimonis | D50: 0 | E50: 0 | F50: 0 | G50: =D50+E50+F50 -> 0 | H50: 0 | I50: 0 | J50: 0 | K50: =H50+I50+J50 -> 0
...
