Workbook
Name _Hlk204782629: 'TP-Ž'!#REF!

Sheet TP-SP-1
B1: Pėsčiųjų takų, kitų inžinerinių statinių ir tinklų tarp Gerosios vilties g. 18, 20, 28 ir Savanorių pr. 52, 54, Vilniuje, statybos projektas
B5: Eil. Nr. | C5: Pavadinimas ir techninės charakteristikos | D5: Žymuo | E5: Pastabos | F5: Mato vienetas | G5: Kiekis | H5: Vieneto įkainis Eur be PVM | I5: Viso kiekio kaina Eur be PVM
B6: 1. | C6: Paruošiamieji ir ardymo darbai
B7: 1.1. | C7: Asfalto dangos vid. 0,12 cm išardymas mechanizuotai (esama parkavimo aikštelė) | D7: TS-01 | F7: m3 | G7: 22 | I7: =G7*H7 -> 0
B8: 1.2. | C8: Asfalto dangos vid. 0,08 cm išardymas mechanizuotai (krepšinio aikštelė, vaikų žaidimo aikštelė, takai) | D8: TS-01 | F8: m3 | G8: 55 | I8: =G8*H8 -> 0
B9: 1.3. | C9: Suoliukų be atlošų išardymas | D9: TS-01 | F9: vnt. | G9: 6 | I9: =G9*H9 -> 0
B10: 1.4. | C10: Suoliukų išardytas ir perdavimas Užsakovui:
C11: ·Suolai su atlošais naujo dizaino | D11: TS-01 | F11: vnt. | G11: 11 | I11: =G11*H11 -> 0
C12: ·Suolai be atlošų naujo dizaino | D12: TS-01 | F12: vnt. | G12: 10 | I12: =G12*H12 -> 0
C13: ·Suolai su akmeninėmis „kojomis“ | D13: TS-01 | F13: vnt. | G13: 2 | I13: =G13*H13 -> 0
C14: ·Suolai seno dizaino | D14: TS-01 | F14: vnt. | G14: 2 | I14: =G14*H14 -> 0
B15: 1.5. | C15: Šiukšlių dėžių išardymas ir perdavimas Užsakovui | D15: TS-01 | F15: vnt. | G15: 5 | I15: =G15*H15 -> 0
B16: 1.6. | C16: Esamų lauko laiptų išardymas | D16: TS-01 | F16: m3 | G16: 15.36 | I16: =G16*H16 -> 0
B17: 1.7. | C17: Esamos atraminė sienutės išardymas | D17: TS-01 | F17: m3 | G17: 6 | I17: =G17*H17 -> 0
B18: 1.8. | C18: Metalinio informacinio stendo išardymas | D18: TS-01 | F18: vnt. | G18: 1 | I18: =G18*H18 -> 0
B19: 1.9. | C19: Metalinių krepšinio stovų išardymas | D19: TS-01 | F19: vnt. | G19: 2 | I19: =G19*H19 -> 0
B20: 1.10. | C20: Metalinių turėklų prie laiptų išardymas | D20: TS-01 | E20: ~9,90kg | F20: m | G20: 25 | I20: =G20*H20 -> 0
B21: 1.11. | C21: Įrenginių išmontavimas ir perdavimas Užsakovui:
C22: ·Metaliniai treniruokliai | D22: TS-01 | F22: vnt. | G22: 4 | I22: =G22*H22 -> 0
C23: ·Lauko teniso stalas | D23: TS-01 | F23: vnt. | G23: 1 | I23: =G23*H23 -> 0
C24: ·Akmeninis lauko stalas su sėdimomis vietomis | D24: TS-01 | E24: ~400 kg | F24: vnt. | G24: 1 | I24: =G24*H24 -> 0
C25: ·Lauko karstinė | D25: TS-01 | F25: vnt. | G25: 1 | I25: =G25*H25 -> 0
C26: ·Lauko čiuožykla | D26: TS-01 | F26: vnt. | G26: 1 | I26: =G26*H26 -> 0
C27: ·Lauko supynės | D27: TS-01 | F27: vnt. | G27: 1 | I27: =G27*H27 -> 0
C28: ·Medinė lauko smėlio dėžė | D28: TS-01 | F28: vnt. | G28: 1 | I28: =G28*H28 -> 0
C29: ·Metaline karuselė | D29: TS-01 | F29: vnt. | G29: 1 | I29: =G29*H29 -> 0
C30: ·Segmentinė tvora vaikų žaidimo aikštelėje | D30: TS-01 | F30: m | G30: 35 | I30: =G30*H30 -> 0
B31: 1.12. | C31: Betoninių kelio bortų ant betoninio pagrindo išardymas | D31: TS-01 | F31: m | G31: 248 | I31: =G31*H31 -> 0
B32: 1.13. | C32: Betoninių vejos bortų ant betoninio pagrindo išardymas | D32: TS-01 | F32: m | G32: 522 | I32: =G32*H32 -> 0
B33: 1.14. | C33: Betoninių plytelių dangos išardymas | D33: TS-01 | F33: m2 | G33: 400 | I33: =G33*H33 -> 0
B34: 1.15. | C34: Statybinio laužo (kelio bortų / betoninių plokščių /plytelių /asfalto dangos ir kt.) pakrovimas ir išvežimas iki 13 km atstumu | D34: TS-01 | F34: t | G34: 137 | I34: =G34*H34 -> 0
B35: 1.16. | C35: Skaldos dangos sluoksnio išardymas, nustumiant iki 20 m, pakrovimas ir išvežimas iki 13 km atstumu (sandėliavimui) | D35: TS-01 | F35: m3 | G35: 8 | I35: =G35*H35 -> 0
B36: 1.17. | C36: Dirvožemio vid. 10 cm pašalinimas, perstumiant iki 20 m, pakrovimas ir vežimas iki 5 km atstumu sandėliavimui (medžių duobių užpylimui) | D36: TS-01 | F36: m3 | G36: 175 | I36: =G36*H36 -> 0
B37: 1.18. | C37: Dirvožemio vid. 10 cm pašalinimas, perstumiant iki 20 m, pakrovimas ir vežimas iki 13 km atstumu (į išlykį) | D37: TS-01 | F37: m3 | G37: 117 | I37: =G37*H37 -> 0
B38: 2. | C38: Žemės sankasos įrengimo darbai
B39: 2.1. | C39: Grunto nukasimas nuo esamo iki projektuojamo paviršiaus, pakrovimas ir išvežimas iki 13 km į išlykį | D39: TS-02 | F39: m3 | G39: 205 | I39: =G39*H39 -> 0
B40: 2.2. | C40: Grunto iškasimas naujų dangų konstrukcijų įrengimo zonoje, pakrovimas ir išvežimas iki 13 km į išlykį | D40: TS-02 | F40: m3 | G40: 1665 | I40: =G40*H40 -> 0
B41: 2.3. | C41: Žemės sankasos įrengimas iš smėlingo grunto (užpylimas nuo esamo iki projektinio paviršiaus) (atvežimas, tankinimas) | D41: TS-02 | F41: m3 | G41: 191 | I41: =G41*H41 -> 0
B42: 2.4. | C42: Neaustinės geotekstilės įrengimas sankasos armavimui | D42: TS-02 | F42: m2 | G42: 2495 | I42: =G42*H42 -> 0
B43: 2.5. | C43: Armuojančių geotinklų įrengimas sankasos armavimui | D43: TS-02 | F43: m2 | G43: 2495 | I43: =G43*H43 -> 0
B44: 2.6. | C44: Žemės sankasos įrengimas iš smėlio žvyro mišinio | D44: TS-02 | F44: m3 | G44: 499 | I44: =G44*H44 -> 0
B45: 2.7. | C45: Žemės sankasos viršaus planiravimas mechanizuotu būdu | D45: TS-02 | F45: m2 | G45: 2849 | I45: =G45*H45 -> 0
B46: 2.8. | C46: Žemės sankasos viršaus tankinimas mechanizuotu būdu | D46: TS-02 | F46: m3 | G46: 855 | I46: =G46*H46 -> 0
B47: 2.9. | C47: Plotų planiravimas Pastaba: žr.“Želdinių dalyje“, želdinimo techninėse specifikacijose ir kiekiuose.
B48: 3. | C48: Bortų įrengimo darbai
B49: 3.1. | C49: Skaldos pagrindo sluoksnio po bordiūrais iš nesurištojo mineralinių medžiagų mišinio 0/45 įrengimas | D49: TS-04 | F49: m3 | G49: 72 | I49: =G49*H49 -> 0
B50: 3.2. | C50: Betoninių kelio bortų 100.15.30 ant C20/25 betono pagrindo įrengimas (1m – 0,12 m3 betono) | D50: TS-03 | F50: m | G50: 253 | I50: =G50*H50 -> 0
B51: 3.3. | C51: Betoninių nužemintų kelio bortų 100.15.22 ant C20/25 betono pagrindo įrengimas (1m – 0,12 m3 betono) Pastaba: iškeltas 3 cm virš asfalto dangos | D51: TS-03 | F51: m | G51: 105 | I51: =G51*H51 -> 0
B52: 3.4. | C52: Betoninių vejos bortų 100.8.20 ant C20/25 betono pagrindo įrengimas | D52: TS-03 | F52: m | G52: 1370 | I52: =G52*H52 -> 0
B53: 3.5. | C53: Sandarinimo juostos tarp asfalto dangos ir borto įrengimas | D53: TS-05 | F53: m | G53: 212 | I53: =G53*H53 -> 0
B54: 4. | C54: Asfalto dangos įrengimas ties keičiamu gatvės bortu
B55: 4.1. | C55: 4 cm storio viršutinio asfalto sluoksnio iš mišinio AC 11 VN (su 70/100 rišikliu) įrengimas | D55: TS-05 | F55: m2 | G55: 26 | I55: =G55*H55 -> 0
B56: 4.2. | C56: 8 cm storio asfalto pagrindo sluoksnio iš mišinio AC 22 PN įrengimas | D56: TS-05 | F56: m2 | G56: 13 | I56: =G56*H56 -> 0
B57: 4.3. | C57: 20 cm skaldos pagrindo sluoksnio iš nesurištoji mineralinių medžiagų mišinio 0/45 įrengimas | D57: TS-04 | F57: m2 | G57: 13 | I57: =G57*H57 -> 0
B58: 4.4. | C58: Asfalto dangos siūlių apdorojimas bitumine mase, klojant asfaltą „karštas prie šalto“ | D58: TS-05 | F58: m | G58: 68 | I58: =G58*H58 -> 0
B59: 5. | C59: Važiuojamosios dalies, ties parkavimo vietomis, pagrindų ir dangos įrengimo darbai (DK 0,3 dangos konstrukcijos klasė)
B60: 5.1. | C60: 55 apsauginio šalčiui atsparaus sluoksnio įrengimas | D60: TS-04 | F60: m2 | G60: 232 | I60: =G60*H60 -> 0
B61: 5.2. | C61: 20 cm skaldos pagrindo sluoksnio iš nesurištojo mineralinių medžiagų mišinio 0/45 įrengimas | D61: TS-04 | F61: m2 | G61: 232 | I61: =G61*H61 -> 0
B62: 5.3. | C62: 8 cm storio pagrindo sluoksnis iš mišinio AC 22 PN (su 70/100 rišikliu) įrengimas | D62: TS-05 | F62: m2 | G62: 232 | I62: =G62*H62 -> 0
B63: 5.4. | C63: Bituminės emulsijos C60B4-S tolygaus sluoksnio paskleidimas | D63: TS-05 | F63: m2 | G63: 232 | I63: =G63*H63 -> 0
B64: 5.5. | C64: 4 cm storio viršutinio asfalto sluoksnio iš mišinio AC 11 VN (su 70/100 rišikliu) įrengimas | D64: TS-05 | F64: m2 | G64: 305 | I64: =G64*H64 -> 0
B65: 5.6. | C65: Geokompozito paklojimas asfalto dangoje (išilgai ≥ 100 kN/m, skersai ≥ 100 kN/m) | D65: TS-05 | F65: m2 | G65: 145 | I65: =G65*H65 -> 0
B66: 6. | C66: Automobilių parkavimo vietų iš betono trinkelių pagrindų ir dangos įrengimo darbai (DK 0,3 dangos konstrukcijos klasė)
B67: 6.1. | C67: 60 cm apsauginio šalčiui atsparaus sluoksnio įrengimas | D67: TS-04 | F67: m2 | G67: 406 | I67: =G67*H67 -> 0
B68: 6.2. | C68: 15 cm skaldos pagrindo sluoksnio iš nesurištojo mineralinių medžiagų mišinio 0/45 įrengimas | D68: TS-04 | F68: m2 | G68: 406 | I68: =G68*H68 -> 0
B69: 6.3. | C69: 3 cm storio pasluoksnio iš granito smulkiosios mineralinės medžiagos mišinio 0/5 įrengimas | D69: TS-03 | F69: m2 | G69: 406 | I69: =G69*H69 -> 0
B70: 6.4. | C70: 8 cm storio betoninių trinkelių ((200x100x80) (pilkos spalvos)) dangos įrengimas, siūles užpildant granito smulkiosios mineralinės medžiagos mišiniu 0/5 | D70: TS-03 | F70: m2 | G70: 392 | I70: =G70*H70 -> 0
B71: 6.5. | C71: 8 cm storio betoninių trinkelių (200x100x80, juodos) dangos įrengimas parkavimo vietų atskyrimui, siūles užpildant granito smulkiosios mineralinės medžiagos mišiniu 0/5 | D71: TS-04 | F71: m2 | G71: 14 | I71: =G71*H71 -> 0
B72: 7. | C72: Betoninių trinkelių pagrindų ir dangos įrengimo darbai
B73: 7.1. | C73: 19 cm šalčiui nejautrių medžiagų sluoksnio įrengimas | D73: TS-04 | F73: m2 | G73: 1419 | I73: =G73*H73 -> 0
B74: 7.2. | C74: 15 cm skaldos pagrindo sluoksnio iš nesurištoji mineralinių medžiagų mišinio 0/45 įrengimas | D74: TS-04 | F74: m2 | G74: 1419 | I74: =G74*H74 -> 0
B75: 7.3. | C75: 3 cm storio pasluoksnio iš granito smulkiosios mineralinės medžiagos mišinio 0/5 įrengimas | D75: TS-03 | F75: m2 | G75: 1419 | I75: =G75*H75 -> 0
B76: 7.4. | C76: 8 cm storio betoninių trinkelių ((240x60x80), natūrali spalva (pilka), šiurkštinta tekstūra)) dangos įrengimas, siūles užpildant granito smulkiosios mineralinės medžiagos mišiniu 0/5 | D76: TS-03 | F76: m2 | G76: 1385 | I76: =G76*H76 -> 0
B77: 7.5. | C77: 8 cm storio betoninių trinkelių ((200x100x80), juoda spalva) dangos įrengimas, su taktiliniu paviršiumi, siūles užpildant granito smulkiosios mineralinės medžiagos mišiniu 0/5 | D77: TS-03 | F77: m2 | G77: 39 | I77: =G77*H77 -> 0
B78: 8. | C78: Trinkelių dangos konstrukcijos įrengimo darbai
B79: 8.1. | C79: 19 cm šalčiui nejautrių medžiagų sluoksnio įrengimas | D79: TS-04 | F79: m2 | G79: 68 | I79: =G79*H79 -> 0
B80: 8.2. | C80: 15 cm skaldos pagrindo sluoksnio iš nesurištoji mineralinių medžiagų mišinio 0/45 įrengimas | D80: TS-04 | F80: m2 | G80: 68 | I80: =G80*H80 -> 0
B81: 8.3. | C81: 3 cm storio pasluoksnio iš granito smulkiosios mineralinės medžiagos mišinio 0/5 įrengimas | D81: TS-03 | F81: m2 | G81: 68 | I81: =G81*H81 -> 0
B82: 8.4. | C82: 8 cm storio betoninių trinkelių ((160x160x80) natūrali spalva (pilka), šiurkštinta tekstūra) dangos įrengimas, siūles užpildant dolomito smulkiosios mineralinės medžiagos mišiniu 0/5 | D82: TS-03 | F82: m2 | G82: 68 | I82: =G82*H82 -> 0
B83: 9. | C83: Liejama krepšinio aikštelės guminė danga
B84: 9.1. | C84: 30 cm šalčiui nejautrių medžiagų sluoksnio įrengimas | D84: TS-04 | F84: m2 | G84: 252 | I84: =G84*H84 -> 0
B85: 9.2. | C85: 15 cm skaldos pagrindo sluoksnio iš nesurištojo mineralinių medžiagų mišinio 0/45 įrengimas | D85: TS-04 | F85: m2 | G85: 252 | I85: =G85*H85 -> 0
B86: 9.3. | C86: 6 cm asfalto pagrindo – dangos sluoksnis iš mišinio AC 16 PD | D86: TS-05 | F86: m2 | G86: 252 | I86: =G86*H86 -> 0
B87: 9.4. | C87: 1,4 cm storio liejamos guminės dangos (7mm SBR+7mm EPDM) įrengimas | D87: TS-06 | F87: m2 | G87: 252 | I87: =G87*H87 -> 0
B88: 10. | C88: Guminė danga sporto aikštelei
B89: 10.1. | C89: 30 cm šalčiui nejautrių medžiagų sluoksnio įrengimas | D89: TS-04 | F89: m2 | G89: 134 | I89: =G89*H89 -> 0
B90: 10.2. | C90: 15 cm skaldos pagrindo sluoksnio iš nesurištojo mineralinių medžiagų mišinio 0/45 įrengimas | D90: TS-04 | F90: m2 | G90: 134 | I90: =G90*H90 -> 0
B91: 10.3. | C91: 6 cm asfalto pagrindo – dangos sluoksnis iš mišinio AC 16 PD | D91: TS-05 | F91: m2 | G91: 134 | I91: =G91*H91 -> 0
B92: 10.4. | C92: 1,4 cm storio liejamos guminės dangos (7mm SBR+7mm EPDM) įrengimas | D92: TS-06 | F92: m2 | G92: 134 | I92: =G92*H92 -> 0
B93: 11. | C93: Guminė danga vaikų žaidimų aikštelei
B94: 11.1. | C94: 30 cm šalčiui nejautrių medžiagų sluoksnio įrengimas | D94: TS-04 | F94: m2 | G94: 248 | I94: =G94*H94 -> 0
B95: 11.2. | C95: 15 cm skaldos pagrindo sluoksnio iš nesurištojo mineralinių medžiagų mišinio 0/45 įrengimas | D95: TS-04 | F95: m2 | G95: 248 | I95: =G95*H95 -> 0
B96: 11.3. | C96: 3 cm storio pasluoksnio iš granito smulkiosios mineralinės medžiagos mišinio 0/5 įrengimas | D96: TS-03 | F96: m2 | G96: 248 | I96: =G96*H96 -> 0
B97: 11.4. | C97: 4 cm guminės dangos (3 cm SBR+1 cm EPDM) įrengimas | D97: TS-07 | F97: m2 | G97: 159 | I97: =G97*H97 -> 0
B98: 11.5. | C98: 12 cm guminės dangos (11 cm SBR+1 cm EPDM) įrengimas | D98: TS-07 | F98: m2 | G98: 89 | I98: =G98*H98 -> 0
B99: 12. | C99: Skaldos dangos prie automobilių parkavimo vietų įrengimo darbai
B100: 12.1. | C100: 20 cm skaldos pagrindo sluoksnio iš nesurištojo mineralinių medžiagų mišinio 0/45 įrengimas | D100: TS-04 | F100: m2 | G100: 55 | I100: =G100*H100 -> 0
B101: 12.2. | C101: 5 cm granito mineralinė medžiagos mišinio fr.5/8 įrengimas | D101: TS-04 | F101: m2 | G101: 55 | I101: =G101*H101 -> 0
B102: 13. | C102: Skaldos dangos prie laiptų įrengimo darbai
B103: 13.1. | C103: 50 cm granito skaldos danga iš mišinio fr.31,5/63 | D103: TS-04 | F103: m2 | G103: 45 | I103: =G103*H103 -> 0
...

Sheet TP-SP-2
B1: Pėsčiųjų takų, kitų inžinerinių statinių ir tinklų tarp Gerosios vilties g. 18, 20, 28 ir Savanorių pr. 52, 54, Vilniuje, statybos projektas
B4: Eil. Nr. | C4: Pavadinimas ir techninės charakteristikos | D4: Žymuo | E4: Pastabos | F4: Mato vienetas | G4: Kiekis | H4: Vieneto įkainis Eur be PVM | I4: Viso kiekio kaina Eur be PVM
B6: 1. | C6: MAŽOJI ARCHITEKTŪRA
B7: 1.1 | C7: Turėklai
B8: 1.1.1. | C8: Nerūdijančio plieno laiptų turėklai | D8: TS 1 | E8: ~224 kg | F8: m | G8: 41 | I8: =G8*H8 -> 0
B9: 1.2. | C9: Mažosios architektūros elementai
B10: 1.2.1. | C10: Suolai | D10: TS 2 | F10: vnt. | G10: 17 | I10: =G10*H10 -> 0
B11: 1.2.2. | C11: Dviračių stovai | D11: TS 3 | F11: vnt. | G11: 4 | I11: =G11*H11 -> 0
B12: 1.2.3. | C12: Šiukšliadėžės | D12: TS 4 | F12: vnt. | G12: 7 | I12: =G12*H12 -> 0
B13: 1.2.4. | C13: Šachmatų stalas | D13: TS 5 | F13: vnt. | G13: 2 | I13: =G13*H13 -> 0
B14: 1.2.5. | C14: Kėdės šachmatų stalui | D14: TS 6 | F14: vnt. | G14: 8 | I14: =G14*H14 -> 0
B15: 1.2.6. | C15: Poilsio suolas | D15: TS 7 | F15: vnt. | G15: 3 | I15: =G15*H15 -> 0
B16: 1.2.7. | C16: Poilsio sofa | D16: TS 8 | F16: vnt. | G16: 6 | I16: =G16*H16 -> 0
B17: 1.2.8. | C17: Poilsio paletė | D17: TS 9 | F17: vnt. | G17: 5 | I17: =G17*H17 -> 0
B18: 1.2.9. | C18: Poilsio suoliukas | D18: TS 10 | F18: vnt. | G18: 2 | I18: =G18*H18 -> 0
B19: 1.2.10. | C19: Gertuvė | D19: TS 24 | F19: vnt. | G19: 1 | I19: =G19*H19 -> 0
B20: 1.3. | C20: Vaikų žaidimų aikštelė
B21: 1.3.1. | C21: Pilis | D21: TS 11 | F21: vnt. | G21: 1 | I21: =G21*H21 -> 0
B22: 1.3.2. | C22: Supynės | D22: TS 12 | F22: vnt. | G22: 1 | I22: =G22*H22 -> 0
B23: 1.3.3. | C23: Batutas | D23: TS 13 | F23: vnt. | G23: 1 | I23: =G23*H23 -> 0
B24: 1.3.4. | C24: Karuselė | D24: TS 14 | F24: vnt. | G24: 1 | I24: =G24*H24 -> 0
B25: 1.3.5. | C25: Spyruokliukas | D25: TS 15 | F25: vnt. | G25: 1 | I25: =G25*H25 -> 0
B26: 1.3.6. | C26: Žaidimų-mokymosi skydelis | D26: TS 16 | F26: vnt. | G26: 1 | I26: =G26*H26 -> 0
B27: 1.3.7. | C27: Ženklas | D27: TS 17 | F27: vnt. | G27: 1 | I27: =G27*H27 -> 0
B28: 1.4. | C28: Sporto aikštelės
B29: 1.4.1. | C29: Krepšinio stovas-vartai | D29: TS 18 | F29: vnt. | G29: 1 | I29: =G29*H29 -> 0
B30: 1.4.2. | C30: Funkcinis treniruočių įrenginys | D30: TS 19 | F30: vnt. | G30: 1 | I30: =G30*H30 -> 0
B31: 1.4.3. | C31: Dviratis | D31: TS 20 | F31: vnt. | G31: 1 | I31: =G31*H31 -> 0
B32: 1.4.4. | C32: Elipsinis treniruoklis | D32: TS 21 | F32: vnt. | G32: 1 | I32: =G32*H32 -> 0
B33: 1.4.5. | C33: Rankų dviratis | D33: TS 22 | F33: vnt. | G33: 1 | I33: =G33*H33 -> 0
B34: 1.4.6. | C34: Kamuolio gaudyklė (4,5 m) | D34: TS 23 | F34: m | G34: 23.5 | I34: =G34*H34 -> 0
H35: Suma viso kiekio (Eur be PVM): | I35: =SUM(I8:I34) -> 0

Sheet TP-Ž
C1: Pėsčiųjų takų, kitų inžinerinių statinių ir tinklų tarp Gerosios vilties g. 18, 20, 28 ir Savanorių pr. 52, 54, Vilniuje, statybos projektas
B3: Eil. Nr. | C3: Pavadinimas ir techninės charakteristikos | D3: Žymuo | E3: Pastabos | F3: Mato vienetas | G3: Kiekis | H3: Vieneto įkainis Eur be PVM | I3: Viso kiekio kaina Eur be PVM
B4: 1. | C4: PARUOŠIAMIEJI DARBAI
B5: 1.1. | C5: Esamų medžių apsaugos darbai ir medžiagos*:
B6: 1.1.1. | C6: Augimvietės gerinimo darbai (grunto supurenimas oro kastuvu ir kt.)* | D6: TS-1 | F6: m2 | G6: 2146 | I6: =G6*H6 -> 0
B7: 1.1.2. | C7: Medžių grupių šaknų apsaugos zonos aptvėrimas statybinio tinklo tvorele, aukštis 1 m*: 10 tiesinių metrų reikalinga: Medinis kuolas - 7 vnt. (50x50 mm, 1500 mm ilgio) (viso 0.02625 m³). Statybinis tinklas 10 m / 10 m² | D7: TS-1 | F7: kompl. | G7: 118 | I7: =G7*H7 -> 0
B8: 1.1.3. | C8: Medžio kamieno apsauga*: Gofruotas vamzdis ø 40/50 mm, 3 m ilgio; Medinės lentos t-20mm – 1.6 m² (0.032 m³) /vnt. Viela 3 mm – 6 m | D8: TS-1 | F8: kompl. | G8: 59 | I8: =G8*H8 -> 0
B9: 1.1.4. | C9: Laistymo maišai, medžių laistymui statybų metu* | D9: TS-1 | F9: vnt. | G9: 284 | I9: =G9*H9 -> 0
B10: 1.1.5. | C10: Mulčiavimas (ne mažiau 5 cm sluoksniu)* | D10: TS-1 | F10: m2 | G10: 2048 | I10: =G10*H10 -> 0
B11: 1.1.6. | C11: Atkastų šaknų dengimas sintetine ar savaime suyrančia 150 g/m² geotekstile* | D11: TS-1 | F11: m2 | G11: 530 | I11: =G11*H11 -> 0
B12: 1.1.7. | C12: Laikinų kelių (šaknų pakloto) įrengimas statybvietėje medžių šaknų apsaugos zonoje * H=20 mm | D12: TS-1 | F12: m2 | G12: 1246 | I12: =G12*H12 -> 0
B13: 1.1.8. | C13: Arboristo priežiūra paruošiamųjų, statybos metu* | D13: TS-1 | F13: val. | G13: 120 | I13: =G13*H13 -> 0
B14: 1.2. | C14: Medžių šalinimas:
B15: 1.2.1. | C15: Kietų veislių medžių nuo 8 iki 16 cm diametro kirtimas, supjaustymas, pakrovimas į autosavivarčius ir išvežimas rangovo pasirinktu atstumu | D15: TS-2 | F15: vnt. | G15: 7 | I15: =G15*H15 -> 0
B16: 1.2.2. | C16: Kietų veislių medžių nuo 17 iki 24 cm diametro kirtimas, supjaustymas, pakrovimas į autosavivarčius ir išvežimas rangovo pasirinktu atstumu | D16: TS-2 | F16: vnt. | G16: 4 | I16: =G16*H16 -> 0
B17: 1.2.3. | C17: Kietų veislių medžių nuo 25 iki 32 cm diametro kirtimas, supjaustymas, pakrovimas į autosavivarčius ir išvežimas rangovo pasirinktu atstumu | D17: TS-2 | F17: vnt. | G17: 1 | I17: =G17*H17 -> 0
B18: 1.2.4. | C18: Minkštų veislių medžių nuo 25 iki 32 cm diametro kirtimas, supjaustymas, pakrovimas į autosavivarčius ir išvežimas rangovo pasirinktu atstumu | D18: TS-2 | F18: vnt. | G18: 1 | I18: =G18*H18 -> 0
B19: 1.2.5. | C19: Minkštų veislių medžių nuo 32 cm diametro kirtimas, supjaustymas, pakrovimas į autosavivarčius ir išvežimas rangovo pasirinktu atstumu | D19: TS-2 | F19: vnt. | G19: 1 | I19: =G19*H19 -> 0
B20: 1.2.6. | C20: Medžių kelmų rovimas (iki 20 cm), pakrovimas į autosavivarčius ir išvežimas rangovo pasirinktu atstumu | D20: TS-2 | F20: vnt. | G20: 10 | I20: =G20*H20 -> 0
B21: 1.2.7. | C21: Medžių kelmų rovimas (21-40 cm), pakrovimas į autosavivarčius ir išvežimas rangovo pasirinktu atstumu | D21: TS-2 | F21: vnt. | G21: 4 | I21: =G21*H21 -> 0
B22: 1.3 | C22: Genėjimo darbai
B23: 1.3.1. | C23: Lapuočių medžių genėjimas dirbant iš autobokštelio, kai medžio diametras iki 20 cm | D23: TS-3 | F23: vnt. | G23: 20 | I23: =G23*H23 -> 0
B24: 1.3.2. | C24: Lapuočių medžių genėjimas dirbant iš autobokštelio, kai medžio diametras iki 40 cm | D24: TS-3 | F24: vnt. | G24: 30 | I24: =G24*H24 -> 0
B25: 1.3.3. | C25: Lapuočių medžių genėjimas dirbant iš autobokštelio, kai medžio diametras iki 60 cm | D25: TS-3 | F25: vnt. | G25: 10 | I25: =G25*H25 -> 0
B26: 1.3.4. | C26: Spygliuočių medžių genėjimas dirbant iš autobokštelio, kai medžio diametras iki 60 cm | D26: TS-3 | F26: vnt. | G26: 3 | I26: =G26*H26 -> 0
B27: 1.3.5. | C27: Nugenėtų šakų pakrovimas į autosavivarčius ir išvežimas rangovo pasirinktu atstumu* | D27: TS-3 | F27: vnt. | G27: 63 | I27: =G27*H27 -> 0
B28: 2. | C28: PROJEKTUOJAMI ŽELDINIAI
B29: 2.1. | C29: Darbai:
B30: 2.1.1. | C30: Sodinimo vietų medžiams paruošimas mechaniniu būdu,pridedant iki 100% aug.dirv.,kai žem. gumulas 1,5x1,5x0,75m | D30: TS-4 | F30: vnt. | G30: 36 | I30: =G30*H30 -> 0
B31: 2.1.2. | C31: Sodinimo vietų krūmams paruošimas mechaniniu būdu II gr.grunte,pridedant iki 100% aug.dirv.,kai žem.gumulas 0,5x0,5x0,3m | D31: TS-5 | F31: vnt. | G31: 550 | I31: =G31*H31 -> 0
B32: 2.1.3. | C32: Sodinimo vietų krūmams paruošimas rankiniu būdu (šaknų apsaugos zonoje), pridedant iki 100% aug.dirv.,kai žem.gumulas 0,5x0,5x0,3m | D32: TS-5 | F32: vnt. | G32: 528 | I32: =G32*H32 -> 0
B33: 2.1.4. | C33: Paruošiamas gruntas daugiamečių augalų sodinimui iki 30 cm, mechaniniu būdu, pridedant 20% kompostinio grunto | D33: TS-6 | F33: m2 | G33: 334 | I33: =G33*H33 -> 0
B34: 2.1.5. | C34: Paruošiamas gruntas daugiamečių augalų sodinimui iki 30 cm, rankiniu būdu, pridedant 20% kompostinio grunto | D34: TS-6 | F34: m2 | G34: 620 | I34: =G34*H34 -> 0
B35: 2.1.6. | C35: Dirvos paruošimas gazonams mech.būdu II gr.grunte | D35: TS-7 | F35: m2 | G35: 1362 | I35: =G35*H35 -> 0
B36: 2.1.7. | C36: Dirvos paruošimas gazonams rank. būdu II gr.grunte (šaknų apsaugos zonoje) | D36: TS-7 | F36: m2 | G36: 1381 | I36: =G36*H36 -> 0
B37: 2.1.8. | C37: Medžių sodinimas | D37: TS-4 | F37: vnt. | G37: 36 | I37: =G37*H37 -> 0
B38: 2.1.9. | C38: Krūmų sodinimas | D38: TS-5 | F38: vnt. | G38: 1078 | I38: =G38*H38 -> 0
B39: 2.1.10. | C39: Daugiamečių žolinių augalų (gėlyno) sodinimas | D39: TS-6 | F39: m2 | G39: 954 | I39: =G39*H39 -> 0
B40: 2.1.11. | C40: Gazono (vejos) sėjimas | D40: TS-7 | F40: m2 | G40: 2743 | I40: =G40*H40 -> 0
B41: 2.1.12. | C41: Mulčiavimas (ne mažiau 5 cm sluoksniu) | D41: TS-9 | F41: m2 | G41: 1460 | I41: =G41*H41 -> 0
B42: 2.2. | C42: Medžiai:
B43: 2.2.1. | C43: Acer campestre "Elsrijk" (Trakinis klevas "Elsrijk") | D43: TS-4 | E43: 18-20cm, SG | F43: vnt. | G43: 1 | I43: =G43*H43 -> 0
B44: 2.2.2. | C44: Betula pendula (Karpotasis beržas) | D44: TS-4 | E44: 18-20cm, SG | F44: vnt. | G44: 2 | I44: =G44*H44 -> 0
B45: 2.2.3. | C45: Crataegus laevigata "Plena" (Grauželinė gudobelė "Plena") | D45: TS-4 | E45: 18-20cm, SG | F45: vnt. | G45: 5 | I45: =G45*H45 -> 0
B46: 2.2.4. | C46: Fraxinus excelsior (Paprastasis uosis) | D46: TS-4 | E46: 18-20cm, SG | F46: vnt. | G46: 3 | I46: =G46*H46 -> 0
B47: 2.2.5. | C47: Liriodendron tulpifera (Geltonžiedis tulpmedis) | D47: TS-4 | E47: 18-20cm, SG | F47: vnt. | G47: 2 | I47: =G47*H47 -> 0
B48: 2.2.6. | C48: Sorbus aucuparia (Paprastasis šermukšnis) | D48: TS-4 | E48: 18-20cm, SG | F48: vnt. | G48: 2 | I48: =G48*H48 -> 0
B49: 2.2.7. | C49: Malus sargentii (Saržento obelis) | D49: TS-4 | E49: 18-20cm, SG | F49: vnt. | G49: 3 | I49: =G49*H49 -> 0
B50: 2.2.8. | C50: Pinus sylvestris (Paprastoji pušis) | D50: TS-4 | E50: 300-350 cm h, SG | F50: vnt. | G50: 3 | I50: =G50*H50 -> 0
B51: 2.2.9. | C51: Pyrus calleryana "Chanticleer" (Kalerio kriaušė "Chanticleer") | D51: TS-4 | E51: 18-20cm, SG | F51: vnt. | G51: 1 | I51: =G51*H51 -> 0
B52: 2.2.10. | C52: Quercus robur (Paprastasis ąžuolas) | D52: TS-4 | E52: 18-20cm, SG | F52: vnt. | G52: 7 | I52: =G52*H52 -> 0
B53: 2.2.11. | C53: Staphyllea pinatta (Plunksnialapis lekėčius) | D53: TS-4 | E53: C5, 80-100 | F53: vnt. | G53: 3 | I53: =G53*H53 -> 0
B54: 2.2.12. | C54: Tilia cordata (Mažalapė liepa) | D54: TS-4 | E54: 18-20cm, SG | F54: vnt. | G54: 2 | I54: =G54*H54 -> 0
B55: 2.2.13. | C55: Ulmus "Lobel‘" (Guoba "Lobel") | D55: TS-4 | E55: 18-20cm, SG | F55: vnt. | G55: 2 | I55: =G55*H55 -> 0
B56: 2.3. | C56: Krūmai:
B57: 2.3.1. | C57: Aronia melanocarpa (Juodavaisė aronija) | D57: TS-5 | E57: ≥C2, 30-50 cm | F57: vnt. | G57: 94 | I57: =G57*H57 -> 0
B58: 2.3.2. | C58: Frangula alnus (Paprastasis šaltekšnis) | D58: TS-5 | E58: ≥C5, 80-120 cm | F58: vnt. | G58: 94 | I58: =G58*H58 -> 0
B59: 2.3.3. | C59: Frangula alnus "Asplenifolia" (Paprastasis šaltekšnis "Asplenifolia") | D59: TS-5 | E59: ≥C5, 80-120 cm | F59: vnt. | G59: 100 | I59: =G59*H59 -> 0
B60: 2.3.4. | C60: Ligustrum vulgare "Lodense" (Paprastasis ligustras "Lodense") | D60: TS-5 | E60: ≥C2, 30-50 cm | F60: vnt. | G60: 177 | I60: =G60*H60 -> 0
B61: 2.3.5. | C61: Salix purpurea "Nana" (Purpurinis karklas "Nana") | D61: TS-5 | E61: ≥C2, 30-50 cm | F61: vnt. | G61: 311 | I61: =G61*H61 -> 0
B62: 2.3.6. | C62: Salix repens (Gulsčiasis karklas) | D62: TS-5 | E62: ≥C2, 30-50 cm | F62: vnt. | G62: 78 | I62: =G62*H62 -> 0
B63: 2.3.7. | C63: Salix elaeagnos "Angustifolia" (Balsvasis karklas "Angustifolia") | D63: TS-5 | E63: ≥C5, 80-120 cm | F63: vnt. | G63: 224 | I63: =G63*H63 -> 0
B64: 2.4. | C64: Daugiamečiai žoliniai augalai:
B65: 2.4.1. | C65: Deschampsia cespitosa "Goldtau‘" (Kupstinė šluotsmilgė "Goldtau") | D65: TS-6 | E65: P9 | F65: vnt. | G65: 4984 | I65: =G65*H65 -> 0
B66: 2.4.2. | C66: Aster divaricatus (Skėstašakis astras) | D66: TS-6 | E66: P9 | F66: vnt. | G66: 712 | I66: =G66*H66 -> 0
B67: 2.4.3. | C67: Aster "Twilight" (Astras "Twilight") | D67: TS-6 | E67: P9 | F67: vnt. | G67: 712 | I67: =G67*H67 -> 0
B68: 2.4.4. | C68: Sanguisorba menziesii (Menzio kraujalakė) | D68: TS-6 | E68: P9 | F68: vnt. | G68: 356 | I68: =G68*H68 -> 0
B69: 2.4.5. | C69: Achillea "Albaster" (Kraujažolė "Albaster") | D69: TS-6 | E69: P9 | F69: vnt. | G69: 890 | I69: =G69*H69 -> 0
B70: 2.4.6. | C70: Penstemon "Raven" (Penstemonas "Raven") | D70: TS-6 | E70: P9 | F70: vnt. | G70: 445 | I70: =G70*H70 -> 0
B71: 2.4.7. | C71: Penstemon "Appleblossom" (Penstemonas "Appleblossom") | D71: TS-6 | E71: P9 | F71: vnt. | G71: 445 | I71: =G71*H71 -> 0
B72: 2.4.8. | C72: Geranium "Dilys" (Snaputis "Dilys") | D72: TS-6 | E72: P9 | F72: vnt. | G72: 356 | I72: =G72*H72 -> 0
B73: 2.4.9. | C73: Calamagrostis x acutiflora (Smailiažiedis lendrūnas) | D73: TS-6 | E73: C1 | F73: vnt. | G73: 356 | I73: =G73*H73 -> 0
B74: 2.4.10. | C74: Allium sphaerocephalon (Kiaušininis česnakas) | D74: TS-6 | E74: P9 | F74: vnt. | G74: 445 | I74: =G74*H74 -> 0
B75: 2.4.11. | C75: Anemone sylvestris (Lieknoji plukė) | D75: TS-6 | E75: P9 | F75: vnt. | G75: 445 | I75: =G75*H75 -> 0
B76: 2.4.12. | C76: Epimedium x youngianum "Niveum" (Jungo epimedis "Niveum") | D76: TS-6 | E76: P9 | F76: vnt. | G76: 445 | I76: =G76*H76 -> 0
B77: 2.4.13. | C77: Galium odoratum (Kvapusis lipikas) | D77: TS-6 | E77: P9 | F77: vnt. | G77: 445 | I77: =G77*H77 -> 0
B78: 2.5. | C78: Svogūniniai augalai:
B79: 2.5.1. | C79: Tulipa sylvestris (Girinė tulpė) | D79: TS-6 | E79: Svogūnėliai | F79: vnt. | G79: 4450 | I79: =G79*H79 -> 0
B80: 2.5.2. | C80: Corydalis solida subsp. Solida (Paprastasis rūtenis) | D80: TS-6 | E80: Svogūnėliai | F80: vnt. | G80: 2670 | I80: =G80*H80 -> 0
B81: 3. | C81: REIKALINGOS MEDŽIAGOS
B82: 3.1. | C82: Medžio tvirtinimo komplektas (kuolai- 3 vnt.) | D82: TS-12 | F82: kompl. | G82: 36 | I82: =G82*H82 -> 0
B83: 3.2. | C83: Medžių šaknyno laistymo sistema Komplektas vienam medžiui vamzdis dn 92 - 3 m, trišakis dn 92 - 1 vnt, kamštis dn 92 - 1 vnt. | D83: TS-11 | F83: kompl. | G83: 36 | I83: =G83*H83 -> 0
B84: 3.3. | C84: Laistymo maišai | D84: TS-10 | F84: kompl. | G84: 36 | I84: =G84*H84 -> 0
B85: 3.4. | C85: Mulčias (ne mažiau 5 cm sluoksnis) | D85: TS-9 | F85: m3 | G85: 72.1 | I85: =G85*H85 -> 0
B86: 3.5. | C86: Augalinis gruntas (iš sandėliavimo vietos duobėms užpildyti, augalinio grunto sluoksnio įrengimui) | D86: TS-8 | F86: m3 | G86: 175 | I86: =G86*H86 -> 0
B87: 3.6. | C87: Augalinis gruntas daugiamečiams žoliniams augalams šaknų apsaugos zonoje | D87: TS-8 | F87: m3 | G87: 93 | I87: =G87*H87 -> 0
B88: 4. | C88: UŽBAIGIAMIEJI DARBAI
B89: 4.1. | C89: Giluminis aeravimas* | D89: TS-13 | F89: vnt. | G89: 100 | I89: =G89*H89 -> 0
H90: Suma viso kiekio (Eur be PVM): | I90: =SUM(I6:I89) -> 0
B92: * - kiekis tikslinamas statybų metu su projektuotojo, techninės priežiūros ir arboristo priežiūra
B95: Pastabos:
B96: 1) statybos metu objekto (brėžiniai) medžiagų ir darbų kiekiai gali būti tikslinami;
B97: 2) rangovas turi įvertinti visus darbus, įrenginius ir medžiagas reikalingas projektui įgyvendinti išlaikant ne prastesnius, nei techninėse specifikacijose numatytus reikalavimus;
B98: 3) nurodyti darbai turi būti įvertinti kompleksiškai, kartu su visais palydinčiais darbais;
B99: 4) visos naudojamos medžiagos ir gaminiai turi būti geriausios kokybės, tinkamos numatytai paskirčiai ir atitikti nacionalinius ir tarptautinius standartus. Medžiagos ir gaminiai turi ilgai tarnauti, reikalauti minimalios priežiūros ir turi būti gautos iš patikimų tiekėjų (gamintojų) su atitikties deklaracijomis.
B100: 5) statybos metu pažeidus esamas komunikacijas, šulinius ir kitas inžinerinių tinklų sudėtines dalis, jos turės būti pakeistos naujomis.

Sheet TP-ER
B1: Pėsčiųjų takų, kitų inžinerinių statinių ir tinklų tarp Gerosios vilties g. 18, 20, 28 ir Savanorių pr. 52, 54, Vilniuje, statybos projektas
B5: Eil. Nr. | C5: Pavadinimas ir techninės charakteristikos | D5: Žymuo | E5: Mato vienetas | F5: Kiekis | G5: Vieneto įkainis Eur be PVM | H5: Viso kiekio kaina Eur be PVM
B6: 1. | C6: Vaizdo stebėjimo tinklas
B7: 1.1 | C7: Ryšių kanalizacijos šulinys RKŠ-0 su liuku, užraktu, kronšteinais, konsolėmis kabelių atsargų montavimui ir movų tvirtinimui (monolitinis) | D7: TS 1.1 | E7: kompl. | F7: 1 | H7: =F7*G7 -> 0
B8: 1.2 | C8: Komutacinė spinta 1200x800x400 | D8: TS 1.2 | E8: vnt. | F8: 1 | H8: =F8*G8 -> 0
B9: 1.3 | C9: HDPE vamzdis d50 | D9: TS 1.3 | E9: m | F9: 29 | H9: =F9*G9 -> 0
B10: 1.4 | C10: Dangos (vejos) išardymas ir atstatymas | E10: m2 | F10: 20 | H10: =F10*G10 -> 0
B11: 1.5 | C11: Tranšėjos kasimas rankinių atviru būdu | E11: m | F11: 29 | H11: =F11*G11 -> 0
B12: 1.6 | C12: Vamzdžio klojimas atviru būdu | E12: m | F12: 29 | H12: =F12*G12 -> 0
B13: 1.7 | C13: Ryšių kanalizacijos šulinys RKŠ-0 įrengimo darbai | E13: kompl. | F13: 1 | H13: =F13*G13 -> 0
B14: 1.8 | C14: Komutacinės spintos 1200x800x400 įrengimo darbai | E14: vnt. | F14: 1 | H14: =F14*G14 -> 0
B15: 1.9 | C15: Ryšio tinklo išpildomoji (geodezinė) nuotrauka | E15: kompl. | F15: 1 | H15: =F15*G15 -> 0
B16: 1.10 | C16: Ryšių trasos nužymėjimo | E16: vnt. | F16: 1 | H16: =F16*G16 -> 0
B17: 1.11 | C17: Statybos darbų žurnalo užpildymas prieš pradedant žemės darbus | E17: vnt. | F17: 1 | H17: =F17*G17 -> 0
B18: 1.12 | C18: Akto užpildymo prieš pradedant žemės darbus | E18: vnt. | F18: 1 | H18: =F18*G18 -> 0
B19: 1.13 | C19: Papildomos instaliacinės medžiagos | D19: TS 4 | E19: kompl. | F19: 1 | H19: =F19*G19 -> 0
B20: 1.14 | C20: Visų sistemų instaliavimo, derinimo darbai, projektinė dokumentacija | D20: TS 4 | E20: kompl. | F20: 1 | H20: =F20*G20 -> 0
B21: 2. | C21: Vaizdo stebėjimo sistema
B22: 2.1 | C22: Vaizdo stebėjimo kamera | D22: TS 2.1 | E22: vnt. | F22: 3 | H22: =F22*G22 -> 0
B23: 2.2 | C23: Kabelių tvarkymo panelė 19“ | D23: TS 2.2 | E23: vnt. | F23: 2 | H23: =F23*G23 -> 0
B24: 2.3 | C24: Maitinimo panelė 7x230V | D24: TS 2.3 | E24: vnt. | F24: 1 | H24: =F24*G24 -> 0
B25: 2.4 | C25: 24 portų komutacinė panelė 6 kat. | D25: TS 2.4 | E25: vnt. | F25: 1 | H25: =F25*G25 -> 0
B26: 2.5 | C26: 6 portų komutatorius su POE++ | D26: TS 2.5 | E26: vnt. | F26: 2 | H26: =F26*G26 -> 0
B27: 2.6 | C27: Kabelis STP 4x2x0.5 6 kat. | D27: TS 2.6 | E27: m | F27: 30 | H27: =F27*G27 -> 0
B28: 2.7 | C28: Komutacinis kabelis RJ45/RJ45, STP 4x2x0.5; 6 kat., L=0.5m. | D28: TS 2.7 | E28: vnt. | F28: 3 | H28: =F28*G28 -> 0
B29: 2.8 | C29: Optinė panelė 4 LC (ODF) | D29: TS 2.8 | E29: vnt. | F29: 1 | H29: =F29*G29 -> 0
B30: 2.9 | C30: PVC instaliacinis vamzdis d25 arba kanalas, su tvirtinimo elementais | D30: TS 2.9 | E30: m | F30: 5 | H30: =F30*G30 -> 0
B31: 2.10 | C31: Lentelė su užrašu 600x400 | D31: TS 2.10 | E31: vnt. | F31: 5 | H31: =F31*G31 -> 0
B32: 2.11 | C32: Papildomos instaliacinės medžiagos | D32: TS 4 | E32: kompl. | F32: 1 | H32: =F32*G32 -> 0
B33: 2.12 | C33: Visų sistemų instaliavimo, derinimo darbai, projektinė dokumentacija | D33: TS 4 | E33: kompl. | F33: 1 | H33: =F33*G33 -> 0
B34: 2.13 | C34: Vaizdo stebėjimo kameros įrengimo ir derinimo darbai | E34: vnt. | F34: 3 | H34: =F34*G34 -> 0
B35: 2.14 | C35: Kabelių tvarkymo panelė 19“ įrengimo darbai | E35: vnt. | F35: 2 | H35: =F35*G35 -> 0
B36: 2.15 | C36: Maitinimo panelė 7x230V įrengimo darbai | E36: vnt. | F36: 1 | H36: =F36*G36 -> 0
B37: 2.16 | C37: 24 portų komutacinė panelė 6 kat. įrengimo darbai | E37: vnt. | F37: 1 | H37: =F37*G37 -> 0
B38: 2.17 | C38: 6 portų komutatorius su POE++ įrengimo ir derinimo darbai | E38: vnt. | F38: 2 | H38: =F38*G38 -> 0
B39: 2.18 | C39: Kabelis STP 4x2x0.5 6 kat. pratraukimas per vaizdo stebėjimo sistemos tinklo vamzdynus | E39: m | F39: 30 | H39: =F39*G39 -> 0
B40: 2.19 | C40: Komutacinis kabelis RJ45/RJ45, STP 4x2x0.5; 6 kat., L=0.5m. įrengimo darbai | E40: vnt. | F40: 3 | H40: =F40*G40 -> 0
B41: 2.20 | C41: Optinė panelė 4 LC (ODF) įrengimo darbai | E41: vnt. | F41: 1 | H41: =F41*G41 -> 0
B42: 2.21 | C42: PVC instaliacinis vamzdis d25 arba kanalas, su tvirtinimo elementais klojimo darbai atramoje | E42: m | F42: 5 | H42: =F42*G42 -> 0
B43: 2.22 | C43: Lentelė su užrašu 600x400 tvirtinimo darbai | E43: vnt. | F43: 5 | H43: =F43*G43 -> 0
B44: 2.23 | C44: Įrengto tinklo matavimai kurie nurodyti Elektroninių ryšių infrastruktūros įrengimo, žymėjimo, priežiūros ir naudojimo taisyklių 161 ir 162 punktuose. | E44: kompl. | F44: 1 | H44: =F44*G44 -> 0
B45: 3. | C45: Esamo RKKS tinklo apsaugojimas
B46: 3.1 | C46: Perdingimo plokštė | D46: TS 3.1 | E46: vnt. | F46: 1 | H46: =F46*G46 -> 0
B47: 3.2 | C47: MTT tipo liukas | D47: TS 3.2 | E47: vnt. | F47: 1 | H47: =F47*G47 -> 0
B48: 3.3 | C48: Apsauginis surenkamas HDPE vamzdis d110 | D48: TS 3.3 | E48: m | F48: 299 | H48: =F48*G48 -> 0
B49: 3.4 | C49: Reguliavimo žiedas | D49: TS 3.4 | E49: vnt. | F49: 2 | H49: =F49*G49 -> 0
B50: 3.5 | C50: Dangos (vejos) išardymas ir atstatymas | E50: m2 | F50: 4 | H50: =F50*G50 -> 0
B51: 3.6 | C51: Tranšėjos kasimas atviru būdu | E51: m | F51: 83 | H51: =F51*G51 -> 0
B52: 3.7 | C52: Ryšio tinklo išpildomoji (geodezinė) nuotrauka | E52: kompl. | F52: 1 | H52: =F52*G52 -> 0
B53: 3.8 | C53: Papildomos instaliacinės medžiagos | D53: TS 4 | E53: kompl. | F53: 1 | H53: =F53*G53 -> 0
B54: 3.9 | C54: Visų sistemų instaliavimo, derinimo darbai, projektinė dokumentacija | D54: TS 4 | E54: kompl. | F54: 1 | H54: =F54*G54 -> 0
B55: 3.10 | C55: MTT tipo liukas įrengimo ir aukščio reguliavimo darbai | E55: vnt. | F55: 1 | H55: =F55*G55 -> 0
B56: 3.11 | C56: Apsauginio surenkamo HDPE vamzdžio d110 klojimo dabai | E56: m | F56: 299 | H56: =F56*G56 -> 0
G57: Suma viso kiekio (Eur be PVM): | H57: =SUM(H7:H56) -> 0
B61: Pastabos:
B62: 1) projekte pateikti kiekiai rengiami pagal sustambintą darbų nomenklatūrą;
B63: 2) statybos rangovai bet kokiu atveju skaičiuodami sąmatas rangos darbams privalo susipažinti su visa projekto dokumentacija, bei kilus klausimams kreiptis į Užsakovą;
B64: 3) medžiagų ir darbų aprašymus žiūrėti techninėse specifikacijose;
B65: 4) šis žiniaraštis turi būti skaitomas, vertinamas kartu su techninėmis specifikacijomis, aiškinamuoju raštu ir brėžiniais;
B66: 5) darbai ir medžiagos turi būti įvertintos su papildomomis instaliacinėmis medžiagomis (pvz. sisteminiai įrangos jungimo elementai, izoliacija, medvarzčiai, litavimo priemonės ir t.t.).

Sheet TP-VN
B1: Pėsčiųjų takų, kitų inžinerinių statinių ir tinklų tarp Gerosios vilties g. 18, 20, 28 ir Savanorių pr. 52, 54, Vilniuje, statybos projektas
B3: Eil. Nr. | C3: Pavadinimas ir techninės charakteristikos | D3: Žymuo | E3: Pastabos | F3: Mato vnt. | G3: Kiekis | H3: Vieneto įkainis Eur be PVM | I3: Viso kiekio kaina Eur be PVM
B4: 1. | C4: VANDENTIEKIO TINKLAI
B5: 1.1. | C5: Slėginiai plastikiniai vandentiekio vamzdžiai PE100 D63, PN10, jų paklojimas atviru būdu, plovimas ir dezinfekavimas, hidraulinis bandymas | D5: TS 2.1.2.1. TS 2.1.2.2. | F5: m | G5: 34.1 | I5: =G5*H5 -> 0
B6: 1.2. | C6: Slėginiai plastikiniai vandentiekio vamzdžiai PE100 D32, PN10, jų paklojimas atviru būdu, plovimas ir dezinfekavimas, hidraulinis bandymas | D6: TS 2.1.2.1. TS 2.1.2.2. | F6: m | G6: 5.5 | I6: =G6*H6 -> 0
B7: 1.3. | C7: Slėginiai plastikiniai PE100 D32 vandentiekio vamzdžiai, PN10 vertikaliai daliai į vandens gertuvę ir laistymo šulinėlį su visomis reikalingomis jungtimis, plovimas ir dezinfekavimas, hidraulinis bandymas | D7: TS 2.1.2.1. TS 2.1.2.2. | F7: m | G7: 4 | I7: =G7*H7 -> 0
B8: 1.4. | C8: Protarpinis (guminė tarpinė) PE100 D63mm vamzdžio perėjimui per g/b šulinio sieneles ir jo užsandarinimas | D8: TS 2.1.3. | F8: vnt. | G8: 2 | I8: =G8*H8 -> 0
B9: 1.5. | C9: Protarpinis (guminė tarpinė) PE100 D32mm vamzdžio perėjimui per g/b šulinio sieneles ir jo užsandarinimas | D9: TS 2.1.3. | F9: vnt. | G9: 2 | I9: =G9*H9 -> 0
B10: 1.6. | C10: Gelžbetoninis, apvalus, surenkamas D1500, Hš =2,20m vandentiekio šulinys su lipynėmis ir jo sumontavimas | D10: TS 2.1.3. | E10: 1,5m3 | F10: vnt | G10: 1 | I10: =G10*H10 -> 0
B11: 1.7. | C11: Gelžbetoninis, apvalus, surenkamas D2000, Hš =2,30m vandentiekio šulinys su lipynėmis, su uždengtu grotelėmis prieduobiu D500 ( H=0.5m) ir jo sumontavimas | D11: TS 2.1.3. | E11: 2,3m3 | F11: vnt | G11: 1 | I11: =G11*H11 -> 0
B12: 1.8. | C12: Kalaus ketaus flanšinis adapteris atsparus tempimui PE vamzdžiams D50x63mm, PN16 | D12: TS 2.1.2.7 | F12: vnt. | G12: 2 | I12: =G12*H12 -> 0
B13: 1.9. | C13: Kalaus ketaus flanšinis adapteris atsparus tempimui ketiniams vamzdžiams D150, PN16 | D13: TS 2.1.2.8 | F13: vnt. | G13: 2 | I13: =G13*H13 -> 0
B14: 1.10. | C14: Kalaus ketaus flanšinė pleištinė sklendė D50 (ilgoji) PN16 | D14: TS 2.1.2.9 | F14: vnt. | G14: 3 | I14: =G14*H14 -> 0
B15: 1.11. | C15: Kalaus ketaus srieginis flanšas D50x1“, PN10 | D15: TS 2.1.2.3 | F15: vnt. | G15: 3 | I15: =G15*H15 -> 0
B16: 1.12. | C16: Kalaus ketaus srieginis flanšas D50x11/4“, PN10 | D16: TS 2.1.2.3 | F16: vnt. | G16: 2 | I16: =G16*H16 -> 0
B17: 1.13. | C17: Daugiasrautis šalto vandens skaitiklis D20 mm su išoriniais 3/4 ” sriegiais (komplekte su srieginiais antgaliais) Qn=2,5 m3/h, PN16 | D17: TS 2.1.2.7. | F17: kompl. | G17: 1 | I17: =G17*H17 -> 0
B18: 1.14. | C18: Kalaus ketaus atbulinis vožtuvas vandentiekio tinklams D50, PN10 | D18: TS 2.1.2.10 | F18: vnt. | G18: 1 | I18: =G18*H18 -> 0
B19: 1.15. | C19: Kalaus ketaus flanšinis trišakis D150x50mm, PN10 | D19: TS 2.1.2.3 | F19: vnt. | G19: 1 | I19: =G19*H19 -> 0
B20: 1.16. | C20: Kalaus ketaus flanšinis trišakis D50x50mm, PN10 | D20: TS 2.1.2.3 | F20: vnt. | G20: 2 | I20: =G20*H20 -> 0
B21: 1.17. | C21: Kalaus ketaus srieginė pleištinė sklendė 11/4“ x 1“, PN16 | D21: TS 2.1.2.4. | F21: vnt. | G21: 2 | I21: =G21*H21 -> 0
B22: 1.18. | C22: Vandens paėmimo/išleidimo čiaupas 1/2“, PN10 | D22: TS 2.1.2.7. | F22: vnt. | G22: 3 | I22: =G22*H22 -> 0
B23: 1.19. | C23: Srieginė ketinė (arba lygiavertis) alkūnė 1 1/4“, PN10 | D23: TS 2.1.2.7. | F23: vnt. | G23: 2 | I23: =G23*H23 -> 0
... B33: 1.29. | C33: Plastikinis D630mm laistymo šulinėlis su laistymo žarna 50m, su prisijungimo prie vandentiekio įvado ir laistymo žarnai antgaliais ir vandens užsukimo ventiliu viduje, dangčiu bei jo įrengimas | D33: TS 2.1.12 | F33: kompl. | G33: 1 | I33: =G33*H33 -> 0
B34: 1.30. | C34: Betonas C20/25 atramoms | F34: m3 | G34: 0.1 | I34: =G34*H34 -> 0
B35: 1.31. | C35: Ketinis, rakinamas, “plaukiojančio“ tipo, apkrovoms ne mažesnėms kaip D400, D700 šulinio dangtis ir jo sumontavimas | D35: TS 2.1.3. | F35: vnt. | G35: 1 | I35: =G35*H35 -> 0
B36: 1.32. | C36: Ketinis, rakinamas, apkrovoms ne mažesnėms kaip B125 D700 šulinio dangtis ir jo sumontavimas | D36: TS 2.1.3. | F36: vnt. | G36: 1 | I36: =G36*H36 -> 0
B37: 1.33. | C37: Komunikacijų nužymėjimo metaliniai dažyti RAL 9004 spalva stulpeliai bei jų sumontavimas | D37: TS 2.1.4. | F37: vnt. | G37: 3 | I37: =G37*H37 -> 0
B38: 1.34. | C38: Plastikinės informacinės lentelės ir jų sumontavimas ant komunikacijų nužymėjimo stulpelių | D38: TS 2.1.4. | F38: vnt. | G38: 3 | I38: =G38*H38 -> 0
B39: 1.35. | C39: Esamo šulinio dangčio pritaikymas prie atnaujintos dangos – veja (E-64) | D39: TS 2.1.3 TS 3.3.4 | F39: vnt. | G39: 1 | I39: =G39*H39 -> 0
B40: 1.36. | C40: Esamų komunikacijos nužymėjimo stulpelių ir lentelių išmontavimas ir išvežimas į užsakovo nurodytą vietą | D40: TS 2.1.5 | F40: kompl. | G40: 1 | I40: =G40*H40 -> 0
B41: 1.37. | C41: Smėlis vamzdžių pasluoksniui ir užpylimui | D41: TS 3.2 | F41: m3 | G41: 9 | I41: =G41*H41 -> 0
B42: 1.38. | C42: Grunto iškasimas | D42: TS 3.2 | F42: m3 | G42: 120 | I42: =G42*H42 -> 0
B43: 1.39. | C43: Grunto išvežimas 13 km spinduliu | D43: TS 3.2 | F43: m3 | G43: 21 | I43: =G43*H43 -> 0
B44: 1.40. | C44: Esamo grunto užpylimas ir sutankinimas | D44: TS 3.2 | F44: m3 | G44: 99 | I44: =G44*H44 -> 0
B45: 1.41. | C45: Vandens gertuvė, kompl-1 | E45: žiūr. projekto architektūrinę dalį | F45: kompl. | G45: 1 | I45: =G45*H45 -> 0
B46: 2. | C46: BUITINIŲ NUOTEKŲ ŠALINIMO TINKLAI
B47: 2.1. | C47: Savitakiniai plastikiniai PVC D110, ≥4 kN/m2 nuotekų vamzdžiai (arba lygiaverčiai) su visomis reikalingomis jungtimis, fasoninėmis dalimis, jų paklojimas atviru būdu, sandarumo badymas | D47: TS 2.1.1 | F47: m | G47: 10 | I47: =G47*H47 -> 0
B48: 2.2. | C48: Savitakiniai plastikiniai PVC D110, ≥4 kN/m2 nuotekų vamzdžiai (arba lygiaverčiai) vertikaliai daliai su visomis reikalingomis jungtimis, fasoninėmis dalimis, sandarumo bandymas | D48: TS 2.1.1 | F48: m | G48: 2 | I48: =G48*H48 -> 0
B49: 2.3. | C49: Plastikinis PVC (arba lygiavertis) perėjimas Dn40x50mm prisijungimui prie gertuvės | D49: TS 2.1.1 | F49: vnt. | G49: 1 | I49: =G49*H49 -> 0
B50: 2.4. | C50: Plastikinis PVC (arba lygiavertis) perėjimas Dn50x110mm (prie gertuvės) | D50: TS 2.1.1 | F50: vnt. | G50: 1 | I50: =G50*H50 -> 0
B51: 2.5. | C51: Protarpiai plastikiniams PVC D110 vamzdžiams perėjimui per g/b šulinio sienelę ir jų įrengimas | D51: TS 2.1.3 | F51: vnt. | G51: 1 | I51: =G51*H51 -> 0
B52: 2.6. | C52: Gelžbetoninis, apvalus, surenkamas D1500 iki 2,45 m infiltracinis šulinys nuotekų iš gertuvės nusidrenavimui, be dugno INF_F1 su granitinės skaldos 16/45 sluoksniu ( 0,9m3 ) bei geotekstile (4,5m2) ir jo sumontavimas | D52: TS 2.1.3 TS 3.3.5 | E52: 1,3m3 | F52: kompl. | G52: 1 | I52: =G52*H52 -> 0
B53: 2.7. | C53: Ketinis, rakinamas, apkrovoms ne mažesnėms kaip B125, D700 šulinio dangtis ir jo sumontavimas ant infiltracinio šulinio | D53: TS 2.1.3 | F53: vnt. | G53: 1 | I53: =G53*H53 -> 0
B54: 2.8. | C54: Esamo šulinio dangčio pritaikymas prie atnaujintos dangos – veja (E-36) | D54: TS 2.1.3 TS 3.3.4 | F54: vnt. | G54: 1 | I54: =G54*H54 -> 0
B55: 2.9. | C55: Komunikacijų nužymėjimo metaliniai dažyti RAL 9004 spalva stulpeliai bei jų sumontavimas | D55: TS 2.1.4. | F55: vnt. | G55: 2 | I55: =G55*H55 -> 0
B56: 2.10. | C56: Plastikinės informacinės lentelės ir jų sumontavimas ant komunikacijų nužymėjimo stulpelių | D56: TS 2.1.4 | F56: vnt. | G56: 2 | I56: =G56*H56 -> 0
B57: 2.11. | C57: Esamų komunikacijos nužymėjimo stulpelių ir lentelių išmontavimas ir išvežimas į užsakovo nurodytą vietą | D57: TS 2.1.5 | F57: kompl. | G57: 1 | I57: =G57*H57 -> 0
B58: 2.12. | C58: Smėlis vamzdžių pasluoksniui ir užpylimui | D58: TS 3.2 | F58: m3 | G58: 2.5 | I58: =G58*H58 -> 0
B59: 2.13. | C59: Grunto iškasimas | D59: TS 3.2 | F59: m3 | G59: 25 | I59: =G59*H59 -> 0
B60: 2.14. | C60: Grunto išvežimas 13 km spinduliu | D60: TS 3.2 | F60: m3 | G60: 7 | I60: =G60*H60 -> 0
B61: 2.15. | C61: Esamo grunto užpylimas | D61: TS 3.2 | F61: m3 | G61: 18 | I61: =G61*H61 -> 0
B62: 3. | C62: PAVIRŠINIŲ NUOTEKŲ ŠALINIMO TINKLAI
B63: 3.1. | C63: Savitakiniai plastikiniai PVC D200, ≥4 kN/m2 nuotekų vamzdžiai (arba lygiaverčiai) su visomis reikalingomis jungtimis, fasoninėmis dalimis, jų paklojimas atviru būdu, sandarumo badymas ir vamzdynų peržiūra TV diagnostine kamera | D63: TS 2.1.1 | F63: m | G63: 52.6 | I63: =G63*H63 -> 0
B64: 3.2. | C64: Gelžbetoninis, apvalus, surenkamas D700, Hb iki 1,50m gylio lietaus surinkimo šulinėlis su dugnu bei ~0,3m sėsdinama dalimi, padengtas hidroizoliacija ir jo sumontavimas (LŠ1-3) | D64: TS 2.1.3 | E64: 0,4m3 | F64: vnt | G64: 1 | I64: =G64*H64 -> 0
B65: 3.3. | C65: Gelžbetoninis, apvalus, surenkamas D700, Hb iki 1,80m gylio lietaus surinkimo šulinėlis su dugnu bei ~0,33m sėsdinama dalimi, padengtas hidroizoliacija ir jo sumontavimas (LŠ1-2) | D65: TS 2.1.3 | E65: 0,45m3 | F65: vnt | G65: 1 | I65: =G65*H65 -> 0
B66: 3.4. | C66: Gelžbetoninis, apvalus, surenkamas D700, Hb iki 2,50m gylio lietaus surinkimo šulinėlis su dugnu bei ~0,3m sėsdinama dalimi, padengtas hidroizoliacija ir jo sumontavimas (LŠ1-5) | D66: TS 2.1.3 | E66: 0,7m3 | F66: vnt | G66: 1 | I66: =G66*H66 -> 0
B67: 3.5. | C67: Gelžbetoninis, apvalus, surenkamas D700, Hb iki 2,90m gylio lietaus surinkimo šulinėlis su dugnu bei ~0,33m sėsdinama dalimi, padengtas hidroizoliacija ir jo sumontavimas (LŠ1-1) | D67: TS 2.1.3 | E67: 0,8m3 | F67: vnt | G67: 1 | I67: =G67*H67 -> 0
B68: 3.6. | C68: Plastikinis lietaus surinkimo šulinėlis D600, Hb iki 1,50m, su dugnu bei ~0,3m sėsdinama dalimi, ir visomis reikalingomis jungiamosiomis dalimis (LŠ1-4) | D68: TS 2.1.3 | F68: vnt. | G68: 1 | I68: =G68*H68 -> 0
B69: 3.7. | C69: Paviršinių nuotekų surinkimo grotelės, montuojamos į bortą, pritaikytos D700 gelžbetoniniams šuliniams, apkrovoms ne mažesnėms kaip C250 klasės ir jų sumontavimas | D69: TS 2.1.3 | F69: vnt. | G69: 4 | I69: =G69*H69 -> 0
B70: 3.8. | C70: Paviršinių nuotekų apvalios, rakinamos, „plaukiojančio“ tipo grotelės montuojamos ant plastikinio D600 šulinėlio, apkrovoms ne mažesnėms kaip D400 klasės ir ų sumontavimas | D70: TS 2.1.3 | F70: vnt. | G70: 1 | I70: =G70*H70 -> 0
B71: 3.9. | C71: Protarpiai plastikiniams PVC D200 vamzdžiams perėjimui per g/b šulinio sienelę ir jų įrengimas | D71: TS 2.1.3 | F71: vnt. | G71: 7 | I71: =G71*H71 -> 0
B72: 3.10. | C72: Esamo betoninio vamzdžio D100 pajungimo detalė prie plastikinio D600 šulinio sienutės | D72: TS 2.1.3 | F72: vnt. | G72: 1 | I72: =G72*H72 -> 0
B73: 3.11. | C73: Esamo betoninio D1,0m šulinio RŠL-101, RŠL-142 ir RŠL-67 remontas (betonas) | D73: TS 2.1.3 | E73: 0,8m3 | F73: vnt | G73: 3 | I73: =G73*H73 -> 0
B74: 3.12. | C74: Ketinis, rakinamas, “plaukiojančio“ tipo apkrovoms ne mažesnėms kaip D400, D700 šulinio dangtis ir jo sumontavimas ant esamo D1,0m šulinio, pritaikant prie atnaujintos dangos ir aukščio, kai paviršius paaukštėja iki 0,05m, danga– asfaltas (RŠL-141) | D74: TS 2.1.3 | E74: 0,01m3 | F74: vnt | G74: 1 | I74: =G74*H74 -> 0
B75: 3.13. | C75: Ketinis, rakinamas, “plaukiojančio“ tipo apkrovoms ne mažesnėms kaip D400, D700 šulinio dangtis ir jo sumontavimas ant esamo D1,0m šulinio, pritaikant prie atnaujintos dangos ir aukščio, kai paviršius pažemėja iki 0,19m, danga– asfaltas (RŠL-67) | D75: TS 2.1.3 | F75: vnt. | G75: 1 | I75: =G75*H75 -> 0
B76: 3.14. | C76: Ketinis, rakinamas, apkrovoms ne mažesnėms kaip B125, D700 šulinio dangtis ir jo sumontavimas ant esamo D1,0m šulinio, pritaikant prie atnaujintos dangos ir aukščio, kai paviršius paaukštėja iki 0,12m, danga– šaligatvio trinkelės (RŠL-63) | D76: TS 2.1.3 | E76: 0,022m3 | F76: vnt | G76: 1 | I76: =G76*H76 -> 0
B77: 3.15. | C77: Esamo šulinio dangčio pritaikymas prie atnaujintos dangos – šaligatvio plytelės (RŠL-142) | D77: TS 2.1.3 TS 3.3.4 | F77: vnt. | G77: 1 | I77: =G77*H77 -> 0
B78: 3.16. | C78: Esamo šulinio dangčio pritaikymas prie atnaujintos dangos – veja (RŠL-101, E-4, E-11, E-61, E-62, E-51) | D78: TS 2.1.3 TS 3.3.4 | F78: vnt | G78: 6 | I78: =G78*H78 -> 0
B79: 3.17. | C79: Komunikacijų nužymėjimo metaliniai dažyti RAL 9004 spalva stulpeliai bei jų sumontavimas | D79: TS 2.1.4. | F79: vnt. | G79: 10 | I79: =G79*H79 -> 0
B80: 3.18. | C80: Plastikinės informacinės lentelės ir jų sumontavimas ant komunikacijų nužymėjimo stulpelių | D80: TS 2.1.4 | F80: vnt. | G80: 10 | I80: =G80*H80 -> 0
B81: 3.19. | C81: Esamo šulinio dangčio d700 demontavimas ir išvežimas į užsakovo nurodytą vietą | D81: TS 2.1.5 | F81: vnt. | G81: 3 | I81: =G81*H81 -> 0
B82: 3.20. | C82: Esamų komunikacijos nužymėjimo stulpelių ir lentelių išmontavimas ir išvežimas į užsakovo nurodytą vietą | D82: TS 2.1.5 | F82: kompl. | G82: 10 | I82: =G82*H82 -> 0
B83: 3.21. | C83: Esamo lietaus surinkimo šulinėlio išmontavimas ir išvežimas į statybinių atliekų sąvartyną (RŠL-69, RŠL-68, RŠL-134) | D83: TS 2.1.5 | E83: 1,4m3 | F83: kompl. | G83: 3 | I83: =G83*H83 -> 0
B84: 3.22. | C84: Esamų apvalių lietaus surinkimo grotelių išmontavimas ir išvežimas į užsakovo nurodytą vietą | D84: TS 2.1.5 | F84: vnt. | G84: 1 | I84: =G84*H84 -> 0
B85: 3.23. | C85: Esamų stačiakampio lietaus surinkimo grotelių išmontavimas ir išvežimas į užsakovo nurodytą vietą | D85: TS 2.1.5 | F85: vnt. | G85: 2 | I85: =G85*H85 -> 0
B86: 3.24. | C86: Esamų D100mm vamzdžių naikinimas/išmontavimas | D86: TS 2.1.5 | F86: m | G86: 3.5 | I86: =G86*H86 -> 0
B87: 3.25. | C87: Smėlis vamzdžių pasluoksniui ir užpylimui | D87: TS 3.2 | F87: m3 | G87: 15 | I87: =G87*H87 -> 0
B88: 3.26. | C88: Grunto iškasimas (įskaitant ir smėlio pasluoksnio įrengimui) | D88: TS 3.2 | F88: m3 | G88: 122 | I88: =G88*H88 -> 0
B89: 3.27. | C89: Grunto išvežimas 13 km spinduliu | D89: TS 3.2 | F89: m3 | G89: 19 | I89: =G89*H89 -> 0
B90: 3.28. | C90: Esamo grunto užpylimas | D90: TS 3.2 | F90: m3 | G90: 103 | I90: =G90*H90 -> 0
B91: 3.29. | C91: Esamos važiuojamosios (asfalto) dalies ardymas ir atstatymas (poreikį ir kiekius tikslintis darbo projekto rengimo metu), S=35.0 m2 | E91: žiūr. projekto sklypo plano/architektūrinę dalį
B92: 3.30. | C92: Esamos plytelių dangos ardymas ir atstatymas (poreikį ir kiekius tikslintis darbo projekto rengimo metu), S=6.0 m2 | E92: žiūr. projekto sklypo plano/architektūrinę dalį
B93: 3.31. | C93: Esamos vejos nuėmimas ir atsėjimas (poreikį ir kiekius tikslintis darbo projekto rengimo metu), S=6.0 m2 | E93: žiūr. projekto želdinių dalį
H94: Suma viso kiekio (Eur be PVM): | I94: =SUM(I5:I93) -> 0
B98: Pastabos:
B99: 1) visi demontuoti dangčiai turi būti pristatyti užsakovui į nurodytą vietą;
B100: 2) žemes darbus tikslintis, atsižvelgiant į vamzdyno klojimo būdą, esamus gruntus konkrečioje vietoje bei sutikslinus žemės paviršiaus altitudes;
B101: 3) naujai statomi šuliniai turi atitikti UAB „Ekoprojektas“ albumų projektinius sprendinius.

Sheet TP-SK
B1: Pėsčiųjų takų, kitų inžinerinių statinių ir tinklų tarp Gerosios vilties g. 18, 20, 28 ir Savanorių pr. 52, 54, Vilniuje, statybos projektas
B4: Eil. Nr. | C4: Pavadinimas ir techninės charakteristikos | D4: Žymuo | E4: Pastabos | F4: Mato vnt. | G4: Kiekis | H4: Vieneto įkainis Eur be PVM | I4: Viso kiekio kaina Eur be PVM
B5: 1. | C5: LAIPTAI
B6: 1.1. | C6: Laiptai L-1 (kiekiai 2 vnt.):
B7: 1.1.1. | C7: Gręžtinis polis GP-1.2, Ø300mm, L = 1,2 m; Betonas C25/30 XC2 - 1,02 m3; Armatūra S500 ( ~100 kg/m3) - 102 kg. | D7: TS-4 | F7: vnt. | G7: 12 | I7: =G7*H7 -> 0
B8: 1.1.2. | C8: Laiptų pakopos surenk. g/b B=1,5 (1,0+0,50m), 0,15x0,35 m iš betono C35/45 XD3 F200 W6, (LST EN 206-1); (1,74 m3). | D8: TS-4 | F8: vnt. | G8: 22 | I8: =G8*H8 -> 0
B9: 1.1.3. | C9: Pagrindas h=0,2m iš betono C25/30-XC2 (LST EN 206-1); armatūra (LST EN 10080) S500 klasės -244 kg. | D9: TS-4 | F9: m3 | G9: 2.44 | I9: =G9*H9 -> 0
B10: 1.1.4, | C10: hidroizoliacija iš 1 sl. bitum. ritininės dangos | F10: m2 | G10: 11.1 | I10: =G10*H10 -> 0
B11: 1.1.5, | C11: paruoš. sl. iš betono C16/20-XC2 (LST EN 206-1); | D11: TS-4 | F11: m3 | G11: 1.11 | I11: =G11*H11 -> 0
B12: 1.1.6, | C12: šalčiui nejautrus sutankintas sl. iš smėlio ir žvyro (reikalavimus žr. proj. SSP dalyje) | F12: m3 | G12: 1.67 | I12: =G12*H12 -> 0
B13: 1.2. | C13: Laiptai L-2 (kiekiai 1 vnt):
B14: 1.2.1. | C14: Gręžtinis polis GP-1.1, Ø300mm, L = 1,5 m Betonas C25/30 XC2 - 0.51 m3, Armatūra S500 ( ~100 kg/m3) -51,0 kg. | D14: TS-4 | F14: vnt. | G14: 6 | I14: =G14*H14 -> 0
B15: 1.2.2. | C15: Laiptų pakopos surenk. g/b B=1,5 (1,0+0,50m), 0,15x0,35 m iš betono C35/45 XD3 F200 W6, (LST EN 206-1); 0,71 m3. | D15: TS-4 | F15: vnt. | G15: 9 | I15: =G15*H15 -> 0
B16: 1.2.3. | C16: Pagrindas h=0,2m iš betono C25/30-XC2 (LST EN 206-1); armatūra (LST EN 10080) S500 klasės -100 kg. | D16: TS-4 | F16: m3 | G16: 1 | I16: =G16*H16 -> 0
B17: 1.2.4. | C17: hidroizoliacija iš 1 sl. bitum. ritininės dangos | F17: m2 | G17: 4.56 | I17: =G17*H17 -> 0
B18: 1.2.5. | C18: paruoš. sl. iš betono C16/20-XC2 (LST EN 206-1); | D18: TS-4 | F18: m3 | G18: 0.46 | I18: =G18*H18 -> 0
B19: 1.2.6. | C19: šalčiui nejautrus sutankintas sl. iš smėlio ir žvyro (reikalavimus žr. proj. SSP dalyje) | F19: m3 | G19: 0.68 | I19: =G19*H19 -> 0
B20: 1.3. | C20: Laiptai L-3 (kiekiai 1 vnt.):
B21: 1.3.1. | C21: Gręžtinis polis GP-1.1, Ø300mm, L = 1,5m Betonas C25/30 XC2 - 0,51 m3, Armatūra S500 ( ~100 kg/m3) - 51 kg. | D21: TS-4 | F21: vnt. | G21: 6 | I21: =G21*H21 -> 0
B22: 1.3.2. | C22: Laiptų pakopos surenk. g/b B=1,5 (1,0+0,50m), 0,15x0,35 m iš betono C35/45 XD3 F200 W6, (LST EN 206-1); (0,79 m3) | D22: TS-4 | F22: vnt. | G22: 10 | I22: =G22*H22 -> 0
B23: 1.3.3. | C23: Pagrindas h=0,2m iš betono C25/30-XC2 (LST EN 206-1); armatūra (LST EN 10080) S500 klasės - 111 kg. | D23: TS-4 | F23: m3 | G23: 1.11 | I23: =G23*H23 -> 0
B24: 1.3.4. | C24: hidroizoliacija iš 1 sl. bitum. ritininės dangos | F24: m2 | G24: 5.1 | I24: =G24*H24 -> 0
B25: 1.3.5. | C25: paruoš. sl. iš betono C16/20-XC2 (LST EN 206-1); | D25: TS-4 | F25: m3 | G25: 0.51 | I25: =G25*H25 -> 0
B26: 1.3.6. | C26: šalčiui nejautrus sutankintas sl. iš smėlio ir žvyro (reikalavimus žr. proj. SSP dalyje) | F26: m3 | G26: 0.77 | I26: =G26*H26 -> 0
B27: 1.4. | C27: Laiptai L-4 (kiekiai 1 vnt.):
B28: 1.4.1. | C28: Gręžtinis polis GP-1.1, Ø300mm, L = 1,5m Betonas C25/30 XC2 - 0,51 m3, Armatūra S500 ( ~100 kg/m3) - 51 kg. | D28: TS-4 | F28: vnt. | G28: 6 | I28: =G28*H28 -> 0
B29: 1.4.2. | C29: Laiptų pakopos surenk. g/b B=1,5 (1,0+0,50m), 0,15x0,35 m iš betono C35/45 XD3 F200 W6, (LST EN 206-1); (0,79 m3) | D29: TS-4 | F29: vnt. | G29: 10 | I29: =G29*H29 -> 0
B30: 1.4.3. | C30: Pagrindas h=0,2m iš betono C25/30-XC2 (LST EN 206-1); armatūra (LST EN 10080) S500 klasės - 111 kg. | D30: TS-4 | F30: m3 | G30: 1.11 | I30: =G30*H30 -> 0
B31: 1.4.4. | C31: hidroizoliacija iš 1 sl. bitum. ritininės dangos | F31: m2 | G31: 5.1 | I31: =G31*H31 -> 0
B32: 1.4.5. | C32: paruoš. sl. iš betono C16/20-XC2 (LST EN 206-1); | D32: TS-4 | F32: m3 | G32: 0.51 | I32: =G32*H32 -> 0
B33: 1.4.6. | C33: šalčiui nejautrus sutankintas sl. iš smėlio ir žvyro (reikalavimus žr. proj. SSP dalyje) | F33: m3 | G33: 0.77 | I33: =G33*H33 -> 0
B34: 1.5. | C34: Laiptai L-5 (kiekiai 1 vnt.):
B35: 1.5.1. | C35: Gręžtinis polis GP-1.1, Ø300mm, L = 1,5m Betonas C25/30 XC2 - 0,34 m3, Armatūra S500 ( ~100 kg/m3) - 34 kg. | D35: TS-4 | F35: vnt. | G35: 4 | I35: =G35*H35 -> 0
B36: 1.5.2. | C36: Laiptų pakopos surenk. g/b B=1,5 (1,0+0,50m), 0,15x0,35 m iš betono C35/45 XD3 F200 W6, (LST EN 206-1); (0,4 m3) | D36: TS-4 | F36: vnt. | G36: 5 | I36: =G36*H36 -> 0
B37: 1.5.3. | C37: Pagrindas h=0,2m iš betono C25/30-XC2 (LST EN 206-1); armatūra (LST EN 10080) S500 klasės - 54,4 kg. | D37: TS-4 | F37: m3 | G37: 0.54 | I37: =G37*H37 -> 0
B38: 1.5.4. | C38: hidroizoliacija iš 1 sl. bitum. ritininės dangos | F38: m2 | G38: 3 | I38: =G38*H38 -> 0
B39: 1.5.5. | C39: paruoš. sl. iš betono C16/20-XC2 (LST EN 206-1); | D39: TS-4 | F39: m3 | G39: 0.3 | I39: =G39*H39 -> 0
B40: 1.5.6. | C40: šalčiui nejautrus sutankintas sl. iš smėlio ir žvyro (reikalavimus žr. proj. SSP dalyje) | F40: m3 | G40: 0.45 | I40: =G40*H40 -> 0
B41: 1.6 | C41: Turėklų poliai
B42: 1.6.1 | C42: Gręžtinis polis GP-1.1, Ø300mm, L = 1,5m Betonas C25/30 XC2 - 0,51 m3, Armatūra S500 ( ~100 kg/m3) - 51 kg. | D42: TS-4 | F42: vnt. | G42: 6 | I42: =G42*H42 -> 0
H43: Suma viso kiekio (Eur be PVM): | I43: =SUM(I7:I42) -> 0
B47: Pastabos:
B48: 1) visi pateikti kiekiai yra sustambinti, privaloma tikslinti DP stadijoje, arba tikslinant sprendinius. Rangovui tikslinant sprendinius gali atsirasti i papildomų, šiame žiniaraštyje neįvardintų elementų ar jo sudedamųjų dalių. Visus pakeitimus būtina derinti su projekto autoriais;
B49: 2) atkreipti dėmesį, kad kai kurių elementų kiekiai skaičiuojami SK arba SP dalyse;
B50: 3) turėklų, tvorų ir kitų linijinių darinių kiekiai pateikiami kompleksiškai. Sudedamieji elementai ir medžiagos nurodyti tipiniuose mazguose;
B51: 4) prieš užsakant ar pradedant gamybą, visų gaminių (mažosios architektūros, dangų, gatvės įrenginių, šviestuvų, vaikų žaidimų ir kitos įrangos) dizainas, spalvos ir kt. turi būti suderinta su projekto architektūrinės dalies rengėjais;
B52: 5) visi sprendiniai dėl objektyvių priežasčių gali būti tikslinami darbų metu. Pakeitimai turi būti suderinti su projekto autoriais;
B53: 6) įrengiant tako konstrukciją medžių šaknų apsaugos zonoje būtinas arboristo dalyvavimas. Įvertinus aplinkybes sprendžiama dėl būtinybės šaknis atkasti naudojant oro kastuvą ir tako konstrukcijos sprendinių koregavimo, pritaikant esamai situacijai.

Sheet TP-LE3
B2: Pėsčiųjų takų, kitų inžinerinių statinių ir tinklų tarp Gerosios vilties g. 18, 20, 28 ir Savanorių pr. 52, 54, Vilniuje, statybos projektas
B4: Eil. Nr. | C4: Pavadinimas ir techninės charakteristikos | D4: Pastabos | E4: Mato vnt. | F4: Kiekis | G4: Vieneto įkainis Eur be PVM | H4: Viso kiekio kaina Eur be PVM
B5: 1. | C5: 0,4 kV ETL ABONENTINIAI STATYBOS MONTAVIMO DARBAI
B6: 1.1. | C6: Trąsos nužymėjimas | E6: Tšk. | F6: 20 | H6: =F6*G6 -> 0
B7: 1.2. | C7: Tranšėjos kasimas/užkasimas atvirai rankiniu būdu | E7: m | F7: 37 | H7: =F7*G7 -> 0
B8: 1.3. | C8: Tranšėjos kasimas/užkasimas mechanizuotai | E8: m | F8: 88 | H8: =F8*G8 -> 0
B9: 1.4. | C9: Rezervinio vamzdžio paklojimas tranšėjoje | E9: m | F9: 56 | H9: =F9*G9 -> 0
B10: 1.5. | C10: Vamzdžio paklojimas tranšėjoje | E10: m | F10: 94 | H10: =F10*G10 -> 0
B11: 1.6. | C11: Signalinės juostos montavimas | E11: m | F11: 125 | H11: =F11*G11 -> 0
B12: 1.7. | C12: Kabelio montavimas vamzdyje | E12: m | F12: 144 | H12: =F12*G12 -> 0
B13: 1.8. | C13: Kabelio montavimas ant įvairių konstrukcijų | E13: m | F13: 22 | H13: =F13*G13 -> 0
B14: 1.9. | C14: Kabelio galinių movų montavimas 0,4 kV | E14: kompl. | F14: 8 | H14: =F14*G14 -> 0
B15: 1.10. | C15: PS-1; RES montavimas (komplekte su pamatu) | E15: kompl. | F15: 2 | H15: =F15*G15 -> 0
B16: 1.11. | C16: Krovimo stotelės montavimas (komplekte su pamatu) | E16: kompl. | F16: 2 | H16: =F16*G16 -> 0
B17: 1.12. | C17: Įžeminimo kontūro įrengimas | D17: PS-1; RES; ryšių spintai, krovimo stotelei | E17: kompl. | F17: 3 | H17: =F17*G17 -> 0
B18: 1.13. | C18: Įžeminimo kontūro varžos matavimas | E18: kompl. | F18: 5 | H18: =F18*G18 -> 0
B19: 1.14. | C19: Kabelio izoliacijos varžos matavimas | E19: kompl. | F19: 5 | H19: =F19*G19 -> 0
B20: 1.15. | C20: Elektros linijų arba transformatorių fazavimas, kai įtampa tinkle iki 1 kV (fazavimas) | E20: kompl. | F20: 5 | H20: =F20*G20 -> 0
B21: 1.16. | C21: Kabelių žymėjimo aikštelių monatvimas | E21: vnt. | F21: 10 | H21: =F21*G21 -> 0
B22: 2. | C22: 0,4 kV ETL ABONENTINIAI MEDŽIAGOS IR ĮRENGINIAI
B23: 2.1. | C23: PS-1. Atviro montavimo ant pamato, metalinis, rakinamas, dviejų dalių (valdymo aparatūra ir kštukiniai lizdai atskirose rakinamose spintos dalyse) IP54 apsaugos klasės, lauko paskirstymo skydas (komplekte su pamatu ir tvirtinimo elementais). Komplekte: - Viršįtampių ribotuvai 400V „C“ – 1 kompl.; - Kirtiklis 125A, 400V – 1 vnt.; - Automatinis jungiklis C/16A, 230V – 1 vnt.; - Automatinis jungiklis C/40A, 400V – 3 vnt.; - Tiesioginio jungimo modulinis skaitiklis 5-60 A, 400V – 3 vnt. | E23: kompl. | F23: 1 | H23: =F23*G23 -> 0
B24: 2.2. | C24: RES. Atviro montavimo ant pamato, metalinis, rakinamas, dviejų dalių (valdymo aparatūra ir kštukiniai lizdai atskirose rakinamose spintos dalyse) IP54 apsaugos klasės, lauko paskirstymo skydas (komplekte su pamatu ir tvirtinimo elementais). Komplekte: - Viršįtampių ribotuvai 400V „C“ – 1 kompl.; - Kirtiklis 50A, 400V – 1 vnt.; - Automatinis jungiklis C/16A, 230V – 2 vnt.; - Automatinis jungiklis C/40A, 400V – 2 vnt.; - Nuotėkio srovės relė 230V, 25A, 30 mA – 2 vnt.; - Nuotėkio srovės relė 400V, 25A, 30 mA – 2 vnt.; - Tiesioginio jungimo modulinis skaitiklis 5-60 A, 400V – 1 vnt., - Kištukinis lizdas IP44 16A, 230V-2 vnt.; - Kištukinis lizdas IP44 16A, 400V-2 vnt. | E24: kompl. | F24: 1 | H24: =F24*G24 -> 0
B25: 2.3. | C25: Elektromobilių krovimo stotelė 22,0 kW, 400V. | E25: kompl. | F25: 2 | H25: =F25*G25 -> 0
B26: 2.4. | C26: Rezervinis vamzdis HDPE d-110 | E26: m | F26: 56 | H26: =F26*G26 -> 0
B27: 2.5. | C27: Vamzdis HDPE d-75 | E27: m | F27: 5 | H27: =F27*G27 -> 0
B28: 2.6. | C28: Vamzdis HDPE d-50 | E28: m | F28: 65 | H28: =F28*G28 -> 0
B29: 2.7. | C29: Vamzdis HDPE d-32 | E29: m | F29: 74 | H29: =F29*G29 -> 0
B30: 2.8. | C30: Signalinė juosta | E30: m | F30: 125 | H30: =F30*G30 -> 0
B31: 2.9. | C31: Elektros kabelis su vario gyslomis 0,4 kV 5x10 mm2 | E31: m | F31: 23 | H31: =F31*G31 -> 0
B32: 2.10. | C32: Elektros kabelis su aliuminio gyslomis 0,4 kV 4x25 mm2 | E32: m | F32: 54 | H32: =F32*G32 -> 0
B33: 2.11. | C33: Elektros kabelis su aliuminio gyslomis 0,4 kV 4x70 mm2 | E33: m | F33: 9 | H33: =F33*G33 -> 0
B34: 2.12. | C34: Elektros kabelis su vario gyslomis 0,4 kV 3x4 mm2 | E34: m | F34: 80 | H34: =F34*G34 -> 0
... B40: 2.18. | C40: Įvairios tvirtinimo detalės, tvirtinimo konstrukcijos | E40: kg | F40: 2 | H40: =F40*G40 -> 0
G41: Suma viso kiekio (Eur be PVM): | H41: =SUM(H6:H40) -> 0
B44: Pastabos:
B45: 1) kiekiai yra orientaciniai ir turi būti patikslinti, pagal rangovo pasirinktą darbų atlikimo technologiją darbo projekto rengimo metu;
B46: 2) nurodyti kiekiai turi būti įvertinti kompleksiškai, kartu su visais palydimaisiais darbais.

Sheet TP-LE4
B2: Pėsčiųjų takų, kitų inžinerinių statinių ir tinklų tarp Gerosios vilties g. 18, 20, 28 ir Savanorių pr. 52, 54, Vilniuje, statybos projektas
B4: Eil. Nr. | C4: Pavadinimas ir techninės charakteristikos | D4: Žymuo | E4: Mato vnt. | F4: Kiekis | G4: Vieneto įkainis Eur be PVM | H4: Viso kiekio kaina Eur be PVM
B5: 1. | C5: APŠVIETIMO TINKLŲ STATYBOS MONTAVIMO DARBAI:
B6: 1.1. | C6: Trasos nužymėjimas | D6: TS.3.2. | E6: tšk. | F6: 210 | H6: =F6*G6 -> 0
B7: 1.2. | C7: Kabelio tranšėjos kasimas/užkasimas rankiniu būdu | D7: TS.3.1;3.2; 4.1 | E7: m | F7: 327 | H7: =F7*G7 -> 0
B8: 1.3. | C8: Kabelio tranšėjos kasimas/užkasimas mechanizuotai | D8: TS.3.1;3.2; 4.1 | E8: m | F8: 706 | H8: =F8*G8 -> 0
B9: 1.4. | C9: Vamzdžio HDPE Æ75 paklojimas tranšėjoje | D9: TS.3.1;3.2; 4.1 | E9: m | F9: 1033 | H9: =F9*G9 -> 0
B10: 1.5. | C10: Vamzdžio HDPE Æ110 paklojimas tranšėjoje uždaru būdu | D10: TS.3.1;3.2; 4.1 | E10: m | F10: 49 | H10: =F10*G10 -> 0
B11: 1.6. | C11: Signalinės juostos montavimas | D11: TS.3.1;3.2; 4.1 | E11: m | F11: 1033 | H11: =F11*G11 -> 0
B12: 1.7. | C12: Trinkelių dangos ardymas-atstatymas | D12: TS.3.1;3.2; 4.1 | E12: m2 | F12: 65 | H12: =F12*G12 -> 0
B13: 1.8. | C13: Vejos atsėjimas | D13: TS.3.1;3.2; 4.1 | E13: m2 | F13: 20 | H13: =F13*G13 -> 0
B14: 1.9. | C14: Esamos apšvietimo atramos h-8,0 m su gembe ir šviestuvu demontavimas ir pristatymas į UAB Vilniaus apšvietimas sandėlius | D14: TS.3.1;3.2; 4.1 | E14: kompl. | F14: 4 | H14: =F14*G14 -> 0
B15: 1.10. | C15: Esamos apšvietimo atramos h-8,0 m su gembe ir šviestuvu demontavimas ir sumontavimas ant naujo pamato | D15: TS.3.1;3.2; 4.1 | E15: kompl. | F15: 7 | H15: =F15*G15 -> 0
B16: 1.11. | C16: Esamos apšvietimo atramos h-8,0 m su dviem gembėmis ir šviestuvais demontavimas ir sumontavimas ant naujo pamato | D16: TS.3.1;3.2; 4.1 | E16: kompl. | F16: 1 | H16: =F16*G16 -> 0
B17: 1.12. | C17: Esamo pamato atramai išmontavimas ir utilizavimas | D17: TS.3.1;3.2; 4.1 | E17: kompl. | F17: 12 | H17: =F17*G17 -> 0
... B37: 1.32. | C37: Nenaudojamų kabelių galų išmontavimas atramose | D37: TS.3.1;3.2; 4.1 | E37: kompl. | F37: 1 | H37: =F37*G37 -> 0
B38: 2. | C38: APŠVIETIMO TINKLŲ BYLOS MEDŽIAGŲ ŽINIARAŠTIS:
B39: 2.1. | C39: Vamzdis HDPE -Æ75 | D39: TS-2.4 | E39: m | F39: 1033 | H39: =F39*G39 -> 0
B40: 2.2. | C40: Vamzdis HDPE -Æ110 uždaru būdu | D40: TS-2.4.1 | E40: m | F40: 49 | H40: =F40*G40 -> 0
B41: 2.3. | C41: Signalinė juosta | D41: TS-2.3 | E41: m | F41: 1033 | H41: =F41*G41 -> 0
B42: 2.4. | C42: Kabelis vario gyslomis 2x1,5mm2, ≥ 300/500 V, darbo temp. + 70˚ C | D42: TS-2.1.1 | E42: m | F42: 275 | H42: =F42*G42 -> 0
B43: 2.5. | C43: Kabelis aliuminio gyslomis 4x25 mm2 1,0/0,6kV, darbo temp. + 90˚ C | D43: TS-2.1 | E43: m | F43: 1305 | H43: =F43*G43 -> 0
B44: 2.6. | C44: Kabelis aliuminio gyslomis 4x50 mm2 1,0/0,6kV, darbo temp. + 90˚ C | D44: TS-2.1 | E44: m | F44: 102 | H44: =F44*G44 -> 0
B45: 2.7. | C45: Galinė mova kabeliui 4x25 mm2 | D45: TS-2.2 | E45: vnt | F45: 110 | H45: =F45*G45 -> 0
B46: 2.8. | C46: Galinė mova kabeliui 4x50 mm2 | D46: TS-2.2 | E46: vnt | F46: 1 | H46: =F46*G46 -> 0
B47: 2.9. | C47: Sujungimo mova kabeliui 4x50 mm2 | D47: TS-2.2 | E47: vnt | F47: 1 | H47: =F47*G47 -> 0
B48: 2.10. | C48: Kūginė 5000mm virš žemės, įleidžiama į pamatą. Karštai cinkuota su įleidžiamomis durelėmis, su kontaktų rinkle ir saugikliu. | D48: TS-2.6 | E48: kompl. | F48: 32 | H48: =F48*G48 -> 0
B49: 2.11. | C49: Kūginė 8000mm virš žemės, įleidžiama į pamatą. Karštai cinkuota su įleidžiamomis durelėmis, su kontaktų rinkle ir saugikliu. | D49: TS-2.6 | E49: kompl. | F49: 7 | H49: =F49*G49 -> 0
B50: 2.12. | C50: Pamatas atramai su apsaugine guma | D50: TS-2.5 | E50: kompl. | F50: 47 | H50: =F50*G50 -> 0
... B60: 2.22. | C60: Kabelių žymėjimo aikštelės | D60: TS-2.12 | E60: vnt. | F60: 111 | H60: =F60*G60 -> 0
G61: Suma viso kiekio (Eur be PVM): | H61: =SUM(H6:H60) -> 0
B64: Pastabos:
B65: 1) kiekiai yra orientaciniai ir turi būti patikslinti, pagal rangovo pasirinktą darbų atlikimo technologiją darbo projekto rengimo metu;
B66: 2) nurodyti kiekiai turi būti įvertinti kompleksiškai, kartu su visais palydimaisiais darbais.

Sheet KITI_DARBAI
B2: Pėsčiųjų takų, kitų inžinerinių statinių ir tinklų tarp Gerosios vilties g. 18, 20, 28 ir Savanorių pr. 52, 54, Vilniuje, statybos projektas
B4: Eil. Nr. | C4: Pavadinimas ir techninės charakteristikos | D4: Mato vnt. | E4: Kiekis | F4: Vieneto įkainis Eur be PVM | G4: Viso kiekio kaina Eur be PVM
B5: 1. | C5: KITI DARBAI
B6: 1.1. | C6: Darbo projektas | D6: obj. | E6: 1 | G6: =E6*F6 -> 0
B7: 1.2. | C7: Išpildomosios nuotraukos | D7: obj. | E7: 1 | G7: =E7*F7 -> 0
B8: 1.3. | C8: Kadastriniai matavimai su patikra VĮ Registrų centre (be teisinės registracijos) | D8: obj. | E8: 1 | G8: =E8*F8 -> 0
B9: 1.4. | C9: Laikinas informacinis stendas | D9: obj. | E9: 1 | G9: =E9*F9 -> 0
B10: 1.5. | C10: Dokumentų sutvarkymas (pagal SLD užbaigimo aktas ir (ar) deklaracijos) | D10: obj. | E10: 1 | G10: =E10*F10 -> 0
F11: Suma viso kiekio (Eur be PVM): | G11: =SUM(G6:G10) -> 0

Sheet Suvestinė
B2: Pėsčiųjų takų, kitų inžinerinių statinių ir tinklų tarp Gerosios vilties g. 18, 20, 28 ir Savanorių pr. 52, 54, Vilniuje, statybos projektas
B4: Eil. Nr. | C4: Darbo pavadinimas, aprašymas | D4: Kaina (Eur be PVM)
B5: 1. | C5: Sklypo sutvarkymo (sklypo planas) dalis. Sklypo plano elementai | D5: ='TP-SP-1'!I140 -> 0
B6: 2. | C6: Sklypo sutvarkymo (sklypo planas) dalis. Mažosios architektūros sprendiniai | D6: ='TP-SP-2'!I35 -> 0
B7: 3. | C7: Želdinių dalis | D7: ='TP-Ž'!I90 -> 0
B8: 4. | C8: Elektroninių ryšių (telekomunikacijų) dalis | D8: ='TP-ER'!H57 -> 0
B9: 5. | C9: Vandentiekio ir nuotekų šalinimo dalis | D9: ='TP-VN'!I94 -> 0
B10: 6. | C10: Konstrukcinė (statinio konstrukcijos) dalis | D10: ='TP-SK'!I43 -> 0
B11: 7. | C11: Elektrotechnikos. Tiekimas (ESO) | D11: 15443.23
B12: 8. | C12: Elektrotechnikos. Iškėlimas (ESO) | D12: 24935.68
B13: 9. | C13: Elektrotechnikos. Abonentiniai tinklai | D13: ='TP-LE3'!H41 -> 0
B14: 10. | C14: Elektrotechnikos. Apšvietimas | D14: ='TP-LE4'!H61 -> 0
B15: 11. | C15: Kiti darbai | D15: =KITI_DARBAI!G11 -> 0
B16: Bendra (1-11 pozicijų suma) pasiūlymo kaina (Eur be PVM): | D16: =SUM(D5:D15) -> 40378.91
B17: PVM 21% : | D17: =D16*0.21 -> 8479.5711
B18: Bendra pasiūlymo kaina (Eur su PVM): | D18: =SUM(D16:D17) -> 48858.481
